Workbook

Sheet Form responses
A1: Submission Date | B1: Store | C1: DPA | D1: OFCOM/FCA | E1: Health and Safety | F1: Policy and Behaviour | G1: Brand Reputation | H1: Training | I1: Date | J1: File Upload | K1: Notes: | L1: Submission ID
A2: 45660.426 | B2: Halifax | C2: Tablets Unattended | E2: Fire Book | I2: 45659 | K2: Hi Zeeshan, It was great seeing you yesterday. Over all a great visit but some shorfalls have came to myattention that i need to address to you. Please take corrective action for store to be compliant. Imran's Tablet have been left turned on whilst he was not present in store. Fire book has not been signed for the fire extenguishers and the Fire alarm. please make sure these are getting completed without fail as these are legal obligation and none compliant on this area is a critical failure. Please make sure the store standard on shop floor is up to the standard, some dusts on surfaces that need to be cleaned. Many thanks, | L2: 6117084298213511522
A3: 45660.664 | B3: Scunthorpe | F3: Missed Deadlines | I3: 45660 | K3: 2025 manager action plan presentation has not been submitted by 29th therefore the dealine has been missed. | L3: 6117289558214092265
A4: 45660.665 | B4: Dewsbury | F4: Missed Deadlines | I4: 45660 | K4: 2025 manager action plan presentation has not been submitted by 29th therefore the dealine has been missed. | L4: 6117290648219123804
A5: 45660.665 | B5: Skipton | F5: Missed Deadlines | I5: 45660 | K5: 2025 manager action plan presentation has not been submitted by 29th therefore the dealine has been missed. | L5: 6117290938215572471
A6: 45660.666 | B6: Halifax | F6: Missed Deadlines | I6: 45660 | K6: The employee evaluation form has not been submitted by 29th of Dec. | L6: 6117291588213505154
A7: 45660.666 | B7: Pontefract | F7: Missed Deadlines | I7: 45660 | K7: The employee evaluation form has not been submitted by 29th of Dec. | L7: 6117291808211318463
A8: 45660.678 | B8: Shipley | G8: Store Security | I8: 45660 | K8: Latest Crime alert has not been printed and displayed. | L8: 6117301638215519371
A9: 45661.458 | B9: Shipley | F9: Blip | I9: 45660 | J9: https://eu.jotform.com/uploads/familyconnectee/242774133829059/6117975689971144620/IMG_8843.png | K9: Failed to clock out 3/1/25 | L9: 6117975689971144620
A10: 45661.458 | B10: Dewsbury | F10: Blip | I10: 45660 | J10: https://eu.jotform.com/uploads/familyconnectee/242774133829059/6117976129973571144/IMG_8843.png | K10: Yakub Failed to clock out 3/1/25 | L10: 6117976129973571144
A11: 45661.459 | B11: Dewsbury | F11: Blip | I11: 45660 | J11: https://eu.jotform.com/uploads/familyconnectee/242774133829059/6117976479973756467/IMG_8843.png | K11: T failed to clock out 3/1/25 | L11: 6117976479973756467
A12: 45661.463 | B12: Selby | F12: Checklist Failures | I12: 45660 | J12: https://eu.jotform.com/uploads/familyconnectee/242774133829059/6117980008499949263/PED%20Selby.pdf | K12: Failed to do PED Checklist on 3/1/25 | L12: 6117980008499949263
A13: 45663.481 | B13: Leeds: Crossgates | F13: Missed Deadlines | G13: Stock/Demos | I13: 45663 | J13: https://eu.jotform.com/uploads/familyconnectee/242774133829059/6119723348497724923/%7B1CF0A685-20DE-4DFD-B535-F07FA37F8A39%7D.png | K13: Hi, Following David's email on 22/11/2024. Your store is not holding a sufficient amount of PAYG sim or still Holding a expired PAYG sim. For the Store to be Ofcom compliant we must be able to Provide PAYG sim to the customers. Please make to order PAYG sim and discard the expired sims. | L13: 6119723348497724923
A14: 45663.481 | B14: Dewsbury | F14: Missed Deadlines | G14: Stock/Demos | I14: 45663 | J14: https://eu.jotform.com/uploads/familyconnectee/242774133829059/6119724018492584599/%7B1CF0A685-20DE-4DFD-B535-F07FA37F8A39%7D.png | K14: Hi, Following David's email on 22/11/2024. Your store is not holding a sufficient amount of PAYG sim or still Holding a expired PAYG sim. For the Store to be Ofcom compliant we must be able to Provide PAYG sim to the customers. Please make to order PAYG sim and discard the expired sims. | L14: 6119724018492584599
A15: 45663.612 | B15: Shipley | F15: Missed Deadlines | G15: Stock/Demos | I15: 45663 | J15: https://eu.jotform.com/uploads/familyconnectee/242774133829059/6119836358492914716/%7B1CF0A685-20DE-4DFD-B535-F07FA37F8A39%7D.png | K15: Hi, Following David's email on 22/11/2024. Your store is not holding a sufficient amount of PAYG sim or still Holding a expired PAYG sim. For the Store to be Ofcom compliant we must be able to Provide PAYG sim to the customers. Please make to order PAYG sim and discard the expired sims. | L15: 6119836358492914716
A16: 45663.65 | B16: Scunthorpe | F16: Checklist Failures | I16: 45661 | J16: https://eu.jotform.com/uploads/familyconnectee/242774133829059/6119869778494986659/Scunny%20PEDS.pdf | K16: Ped's not complete on 4th Jan 25 | L16: 6119869778494986659
A17: 45663.668 | B17: Skipton | C17: Customer Data | F17: Sign in/out | G17: Store Security | I17: 45660 | K17: Hi Oliver, It was nice seeing you on Friday. during my visit the following areas have been marked as none compliant. can you please take corrective action. Staff/ Visitor must be signed in upon their visits. Customer data was left unatended. the latest fraud alet has not been printed and displayed. | L17: 6119884848495063933
A18: 45663.669 | B18: Dewsbury | G18: Google Reviews | I18: 45663 | J18: https://eu.jotform.com/uploads/familyconnectee/242774133829059/6119886278496875775/dewsbury%20google%20reviews.jpg | K18: 2x reviews come on google with negative feedback surrounding service, this impacts our brand and damaged reputation to the store, please set an action to turn this around | L18: 6119886278496875775
A19: 45663.669 | B19: Skipton | F19: System Misuse Misconduct | I19: 45663 | K19: Hi Oliver, We have had a chat about this on Friday. Many thanks, | L19: 6119886298491833605
A20: 45664.668 | B20: Leeds: Crossgates | C20: Customer Data Tablets Unattended | E20: Fire Book | F20: Sign in/out Banking | I20: 45664 | K20: Hi Lee, Following my visit yesterday, I have gone through everything with you in store. Please see above none compliant areas. I ahve checke dthe namking today and you are missing some days. please note this task needs to be completed daily without fail. let me know if you have any questions. Jav | L20: 6120749192311638509
A21: 45664.676 | B21: Leeds: The Springs | F21: Checklist Failures | I21: 45663 | K21: Hi, Your store has been failed to declare the reopening on store closure app/power app. Jav | L21: 6120755856182500669
A22: 45664.682 | B22: Skipton | F22: Checklist Failures | I22: 45663 | K22: Hi, Store reopening has not been submitted on power app. Please make sure you declare the store as reopen. Jav | L22: 6120761573515982796
A23: 45664.683 | B23: Selby | F23: Checklist Failures | I23: 45663 | K23: Hi Store reopening has not been submitted on power app. Please make sure you declare the store as reopen. Jav | L23: 6120762343512988007
A24: 45664.683 | B24: Halifax | F24: Checklist Failures | I24: 45663 | K24: Hi Store reopening has not been submitted on power app. Please make sure you declare the store as reopen. Jav | L24: 6120762103516059764
A25: 45670.458 | B25: Leeds: The Springs | C25: Customer Data | E25: H&S | F25: Checklist Failures | I25: 45666 | K25: Morning Hernan, It was nice seeing you on Thursday. Please see above the areas of none compliant that have been identified during my visit. Fire Zone plan not being displayed by fire Alarm. This has been advised to you previousley. Customer sensitive Data at unnecessary risk by being left unattended on the table. Ped checklist has been missed on Friday unless you can provie evidence of submission. if you have any question please get in touch. Many thanks, | L25: 6125752018022384401
A26: 45670.465 | B26: Dewsbury | F26: Checklist Failures | I26: 45669 | K26: The daily PED checks for your store on 12/01/2025 were not completed prior to your store opening time as per policy. It’s really important to complete your PED checks before trading. Please familiarise yourselves with the PCI DSS policy on Albert. | L26: 6125757528026035317
A27: 45670.466 | B27: Halifax | F27: Checklist Failures | I27: 45669 | K27: The daily PED checks for your store on 12/01/2025 were not completed prior to your store opening time as per policy. It’s really important to complete your PED checks before trading. Please familiarise yourselves with the PCI DSS policy on Albert. | L27: 6125758208029795211
A28: 45670.541 | B28: Halifax | H28: Missed Deadline | I28: 45670 | K28: Hi Zeeshan, You have missed the Training deadline which was 13th of Jan. Please make sure to complete the training today. Many thanks, | L28: 6125823638027120136
A29: 45670.542 | B29: Skipton | H29: Missed Deadline | I29: 45670 | K29: Hi Oliver, Madison Training has not been completed by 13th. please make sure this is completed today. Many thanks, | L29: 6125824368026602358
A30: 45670.543 | B30: Dewsbury | H30: Missed Deadline | I30: 45670 | K30: Hi, Kirsty robinson training has not been completed. it should have been completed before 13th. Many thanks, | L30: 6125825058024176182
A31: 45670.544 | B31: Leeds: The Springs | H31: Missed Deadline | I31: 45670 | K31: Trainings have not been completed by the staff members. the training should have been completed before 13/01/2025. Many thanks, | L31: 6125825828022090466
A32: 45672.471 | B32: Pontefract | C32: Customer Data | G32: Store Standards | I32: 45670 | K32: Hi Hayley, Following our conversation on Monday , the above shortfalls have been undetified and need your attention please. | L32: 6127490950219076174
A33: 45672.525 | B33: Halifax | G33: Store Late Opening | I33: 45672 | K33: Hi Zeeshan, Following our conversation, Store has opened up after 9:30. Many thanks, | L33: 6127537820211210369
A34: 45672.527 | B34: Dewsbury | F34: Missed Deadlines | I34: 45672 | J34: https://eu.jotform.com/uploads/familyconnectee/242774133829059/6127539590218740028/Screenshot_15-1-2025_11044_bt.workplace.com.jpeg | K34: Hi, As per Alison request meter reading was not submitted by 8th of jannuary. Many thanks, | L34: 6127539590218740028
A35: 45672.528 | B35: Leeds: Crossgates | F35: Missed Deadlines | I35: 45672 | J35: https://eu.jotform.com/uploads/familyconnectee/242774133829059/6127539860213303496/Screenshot_15-1-2025_11044_bt.workplace.com.jpeg | K35: Hi, As per Alison request meter reading was not submitted by 8th of jannuary. Many thanks, | L35: 6127539860213303496
A36: 45672.528 | B36: Pontefract | F36: Missed Deadlines | I36: 45672 | J36: https://eu.jotform.com/uploads/familyconnectee/242774133829059/6127540300216064193/Screenshot_15-1-2025_11044_bt.workplace.com.jpeg | K36: Hi, As per Alison request meter reading was not submitted by 8th of jannuary. Many thanks, | L36: 6127540300216064193
A37: 45672.528 | B37: Scunthorpe | F37: Missed Deadlines | I37: 45672 | J37: https://eu.jotform.com/uploads/familyconnectee/242774133829059/6127540540215905236/Screenshot_15-1-2025_11044_bt.workplace.com.jpeg | K37: Hi, As per Alison request meter reading was not submitted by 8th of jannuary. Many thanks, | L37: 6127540540215905236
A38: 45672.529 | B38: Shipley | F38: Missed Deadlines | I38: 45672 | K38: Hi, As per Alison request meter reading was not submitted by 8th of jannuary. Many thanks, | L38: 6127540730214696246
A39: 45678.506 | B39: Pontefract | F39: Banking | I39: 45678 | K39: Banking has not been updated on website since 16th of jannuary. | L39: 6132704888493188001
A40: 45678.507 | B40: Skipton | F40: Banking | I40: 45678 | K40: Hi Oliver, Banking has not been update on the portal since 17th of Jannuary. Please make sure this task is getting completed daily. Many thanks, | L40: 6132705938492316510
A41: 45681.427 | B41: Dewsbury | F41: Checklist Failures | I41: 45680 | K41: The daily PED checks for your store on 23/01/2025 were not completed prior to your store opening time as per policy. It’s really important to complete your PED checks before trading. Please familiarise yourselves with the PCI DSS policy on Albert. | L41: 6135229212382033162
A42: 45681.548 | B42: Pontefract | E42: Cleanliness | G42: POS Store Standards | I42: 45681 | J42: https://eu.jotform.com/uploads/familyconnectee/242774133829059/6135333812381831869/IMG-20250124-WA0014.jpg https://eu.jotform.com/uploads/familyconnectee/242774133829059/6135333812381831869/IMG-20250124-WA0015.jpg https://eu.jotform.com/uploads/familyconnectee/242774133829059/6135333812381831869/IMG-20250124-WA0016.jpg https://eu.jotform.com/uploads/familyconnectee/242774133829059/6135333812381831869/IMG-20250124-WA0017.jpg https://eu.jotform.com/uploads/familyconnectee/242774133829059/6135333812381831869/IMG-20250124-WA0019.jpg https://eu.jotform.com/uploads/familyconnectee/242774133829059/6135333812381831869/IMG-20250124-WA0018.jpg https://eu.jotform.com/uploads/familyconnectee/242774133829059/6135333812381831869/IMG-20250124-WA0020.jpg https://eu.jotform.com/uploads/familyconnectee/242774133829059/6135333812381831869/IMG-20250124-WA0022.jpg https://eu.jotform.com/uploads/familyconnectee/242774133829059/6135333812381831869/IMG-20250124-WA0021.jpg https://eu.jotform.com/uploads/familyconnectee/242774133829059/6135333812381831869/IMG-20250124-WA0011.jpg https://eu.jotform.com/uploads/familyconnectee/242774133829059/6135333812381831869/IMG-20250124-WA0013.jpg https://eu.jotform.com/uploads/familyconnectee/242774133829059/6135333812381831869/IMG-20250124-WA0012.jpg | K42: Hi Hayley, On my last visit, I have asked you to make sure store standard, cleanness and POS need to be up to standard, however unfortunatly the store is not meeting these standards. can you please make sure these are in place moving forward? Many thanks, | L42: 6135333812381831869

Sheet ScoreCard
A1: Store Name | B1: DPA | C1: OFCOM/FCA | D1: Health & Safety | E1: Policy & Behaviour | F1: Brand Reputition | G1: Training | H1: Total Score
A2: Dewsbury | B2: =4 - (0.44 * SUMPRODUCT( ('Form responses'!B:B = $A2) * ((ISNUMBER(SEARCH("Customer Data", 'Form responses'!C:C))) + (ISNUMBER(SEARCH("Tablets Unattended", 'Form responses'!C:C))) + (ISNUMBER(SEARCH("Safe Unlocked", 'Form responses'!C:C))) + (ISNUMBER(SEARCH("Shredder Not in Use", 'Form responses'!C:C))) + (ISNUMBER(SEARCH("Accessing Customer's Account W/O Permissions", 'Form responses'!C:C))) + (ISNUMBER(SEARCH("Accessing F/F Accounts", 'Form responses'!C:C))) )) ) -> 4 | C2: =4 - (0.44 * SUMPRODUCT( ('Form responses'!B:B = $A2) * ((ISNUMBER(SEARCH("Flex Remedial", 'Form responses'!D:D))) + (ISNUMBER(SEARCH("Contract Errors", 'Form responses'!D:D))) + (ISNUMBER(SEARCH("Ofcom Knowledge", 'Form responses'!D:D))) + (ISNUMBER(SEARCH("FCA Knowledge", 'Form responses'!D:D))) + (ISNUMBER(SEARCH("FCA/OFCOM Complaint", 'Form responses'!D:D))) + (ISNUMBER(SEARCH("Flex Process", 'Form responses'!D:D))) + (ISNUMBER(SEARCH("Proofs", 'Form responses'!D:D))) )) ) -> 4 | D2: =4 - (0.44 * SUMPRODUCT( ('Form responses'!B:B = $A2) * ((ISNUMBER(SEARCH("Fire Book", 'Form responses'!E:E))) + (ISNUMBER(SEARCH("Fire Risk Assessments", 'Form responses'!E:E))) + (ISNUMBER(SEARCH("Cleanliness", 'Form responses'!E:E))) + (ISNUMBER(SEARCH("H&S", 'Form responses'!E:E))) + (ISNUMBER(SEARCH("H&S Knowledge", 'Form responses'!E:E))) )) ) -> 4 | E2: =4 - (0.44 * SUMPRODUCT( ('Form responses'!B:B = $A2) * ((ISNUMBER(SEARCH("System Misuse", 'Form responses'!F:F))) + (ISNUMBER(SEARCH("Misconduct", 'Form responses'!F:F))) + (ISNUMBER(SEARCH("Checklist Failures", 'Form responses'!F:F))) + (ISNUMBER(SEARCH("Sign in/out", 'Form responses'!F:F))) + (ISNUMBER(SEARCH("Blip", 'Form responses'!F:F))) + (ISNUMBER(SEARCH("Risk Escalations", 'Form responses'!F:F))) + (ISNUMBER(SEARCH("Reconcilation", 'Form responses'!F:F))) + (ISNUMBER(SEARCH("Website", 'Form responses'!F:F))) + (ISNUMBER(SEARCH("Banking", 'Form responses'!F:F))) + (ISNUMBER(SEARCH("Missed Declarations", 'Form responses'!F:F))) + (ISNUMBER(SEARCH("Missed Deadlines", 'Form responses'!F:F))) )) ) -> 0.92 | F2: =4 - (0.44 * SUMPRODUCT( ('Form responses'!B:B = $A2) * ((ISNUMBER(SEARCH("Store Late Opening", 'Form responses'!G:G))) + (ISNUMBER(SEARCH("Manager Lateness", 'Form responses'!G:G))) + (ISNUMBER(SEARCH("POS", 'Form responses'!G:G))) + (ISNUMBER(SEARCH("Store Standards", 'Form responses'!G:G))) + (ISNUMBER(SEARCH("Social Media", 'Form responses'!G:G))) + (ISNUMBER(SEARCH("Google Reviews", 'Form responses'!G:G))) + (ISNUMBER(SEARCH("Repairs/Returns", 'Form responses'!G:G))) + (ISNUMBER(SEARCH("Store Security", 'Form responses'!G:G))) + (ISNUMBER(SEARCH("Stock/Demos", 'Form responses'!G:G))) + (ISNUMBER(SEARCH("Bright HR", 'Form responses'!G:G))) )) ) -> 3.12 | G2: =4-COUNTIFS('Form responses'!B:B, A2, 'Form responses'!H:H, "Missed Deadline")*0.95 -> 3.05 | H2: =SUM(B2:G2)/6 -> 3.1816667
A3: Goole | B3: =4 - (0.44 * SUMPRODUCT( ('Form responses'!B:B = $A3) * ((ISNUMBER(SEARCH("Customer Data", 'Form responses'!C:C))) + (ISNUMBER(SEARCH("Tablets Unattended", 'Form responses'!C:C))) + (ISNUMBER(SEARCH("Safe Unlocked", 'Form responses'!C:C))) + (ISNUMBER(SEARCH("Shredder Not in Use", 'Form responses'!C:C))) + (ISNUMBER(SEARCH("Accessing Customer's Account W/O Permissions", 'Form responses'!C:C))) + (ISNUMBER(SEARCH("Accessing F/F Accounts", 'Form responses'!C:C))) )) ) -> 4 | C3: =4 - (0.44 * SUMPRODUCT( ('Form responses'!B:B = $A3) * ((ISNUMBER(SEARCH("Flex Remedial", 'Form responses'!D:D))) + (ISNUMBER(SEARCH("Contract Errors", 'Form responses'!D:D))) + (ISNUMBER(SEARCH("Ofcom Knowledge", 'Form responses'!D:D))) + (ISNUMBER(SEARCH("FCA Knowledge", 'Form responses'!D:D))) + (ISNUMBER(SEARCH("FCA/OFCOM Complaint", 'Form responses'!D:D))) + (ISNUMBER(SEARCH("Flex Process", 'Form responses'!D:D))) + (ISNUMBER(SEARCH("Proofs", 'Form responses'!D:D))) )) ) -> 4 | D3: =4 - (0.44 * SUMPRODUCT( ('Form responses'!B:B = $A3) * ((ISNUMBER(SEARCH("Fire Book", 'Form responses'!E:E))) + (ISNUMBER(SEARCH("Fire Risk Assessments", 'Form responses'!E:E))) + (ISNUMBER(SEARCH("Cleanliness", 'Form responses'!E:E))) + (ISNUMBER(SEARCH("H&S", 'Form responses'!E:E))) + (ISNUMBER(SEARCH("H&S Knowledge", 'Form responses'!E:E))) )) ) -> 4 | E3: =4 - (0.44 * SUMPRODUCT( ('Form responses'!B:B = $A3) * ((ISNUMBER(SEARCH("System Misuse", 'Form responses'!F:F))) + (ISNUMBER(SEARCH("Misconduct", 'Form responses'!F:F))) + (ISNUMBER(SEARCH("Checklist Failures", 'Form responses'!F:F))) + (ISNUMBER(SEARCH("Sign in/out", 'Form responses'!F:F))) + (ISNUMBER(SEARCH("Blip", 'Form responses'!F:F))) + (ISNUMBER(SEARCH("Risk Escalations", 'Form responses'!F:F))) + (ISNUMBER(SEARCH("Reconcilation", 'Form responses'!F:F))) + (ISNUMBER(SEARCH("Website", 'Form responses'!F:F))) + (ISNUMBER(SEARCH("Banking", 'Form responses'!F:F))) + (ISNUMBER(SEARCH("Missed Declarations", 'Form responses'!F:F))) + (ISNUMBER(SEARCH("Missed Deadlines", 'Form responses'!F:F))) )) ) -> 4 | F3: =4 - (0.44 * SUMPRODUCT( ('Form responses'!B:B = $A3) * ((ISNUMBER(SEARCH("Store Late Opening", 'Form responses'!G:G))) + (ISNUMBER(SEARCH("Manager Lateness", 'Form responses'!G:G))) + (ISNUMBER(SEARCH("POS", 'Form responses'!G:G))) + (ISNUMBER(SEARCH("Store Standards", 'Form responses'!G:G))) + (ISNUMBER(SEARCH("Social Media", 'Form responses'!G:G))) + (ISNUMBER(SEARCH("Google Reviews", 'Form responses'!G:G))) + (ISNUMBER(SEARCH("Repairs/Returns", 'Form responses'!G:G))) + (ISNUMBER(SEARCH("Store Security", 'Form responses'!G:G))) + (ISNUMBER(SEARCH("Stock/Demos", 'Form responses'!G:G))) + (ISNUMBER(SEARCH("Bright HR", 'Form responses'!G:G))) )) ) -> 4 | G3: =4-COUNTIFS('Form responses'!B:B, A3, 'Form responses'!H:H, "Missed Deadline")*0.95 -> 4 | H3: =SUM(B3:G3)/6 -> 4
A4: Halifax | B4: =4 - (0.44 * SUMPRODUCT( ('Form responses'!B:B = $A4) * ((ISNUMBER(SEARCH("Customer Data", 'Form responses'!C:C))) + (ISNUMBER(SEARCH("Tablets Unattended", 'Form responses'!C:C))) + (ISNUMBER(SEARCH("Safe Unlocked", 'Form responses'!C:C))) + (ISNUMBER(SEARCH("Shredder Not in Use", 'Form responses'!C:C))) + (ISNUMBER(SEARCH("Accessing Customer's Account W/O Permissions", 'Form responses'!C:C))) + (ISNUMBER(SEARCH("Accessing F/F Accounts", 'Form responses'!C:C))) )) ) -> 3.56 | C4: =4 - (0.44 * SUMPRODUCT( ('Form responses'!B:B = $A4) * ((ISNUMBER(SEARCH("Flex Remedial", 'Form responses'!D:D))) + (ISNUMBER(SEARCH("Contract Errors", 'Form responses'!D:D))) + (ISNUMBER(SEARCH("Ofcom Knowledge", 'Form responses'!D:D))) + (ISNUMBER(SEARCH("FCA Knowledge", 'Form responses'!D:D))) + (ISNUMBER(SEARCH("FCA/OFCOM Complaint", 'Form responses'!D:D))) + (ISNUMBER(SEARCH("Flex Process", 'Form responses'!D:D))) + (ISNUMBER(SEARCH("Proofs", 'Form responses'!D:D))) )) ) -> 4 | D4: =4 - (0.44 * SUMPRODUCT( ('Form responses'!B:B = $A4) * ((ISNUMBER(SEARCH("Fire Book", 'Form responses'!E:E))) + (ISNUMBER(SEARCH("Fire Risk Assessments", 'Form responses'!E:E))) + (ISNUMBER(SEARCH("Cleanliness", 'Form responses'!E:E))) + (ISNUMBER(SEARCH("H&S", 'Form responses'!E:E))) + (ISNUMBER(SEARCH("H&S Knowledge", 'Form responses'!E:E))) )) ) -> 3.56 | E4: =4 - (0.44 * SUMPRODUCT( ('Form responses'!B:B = $A4) * ((ISNUMBER(SEARCH("System Misuse", 'Form responses'!F:F))) + (ISNUMBER(SEARCH("Misconduct", 'Form responses'!F:F))) + (ISNUMBER(SEARCH("Checklist Failures", 'Form responses'!F:F))) + (ISNUMBER(SEARCH("Sign in/out", 'Form responses'!F:F))) + (ISNUMBER(SEARCH("Blip", 'Form responses'!F:F))) + (ISNUMBER(SEARCH("Risk Escalations", 'Form responses'!F:F))) + (ISNUMBER(SEARCH("Reconcilation", 'Form responses'!F:F))) + (ISNUMBER(SEARCH("Website", 'Form responses'!F:F))) + (ISNUMBER(SEARCH("Banking", 'Form responses'!F:F))) + (ISNUMBER(SEARCH("Missed Declarations", 'Form responses'!F:F))) + (ISNUMBER(SEARCH("Missed Deadlines", 'Form responses'!F:F))) )) ) -> 2.68 | F4: =4 - (0.44 * SUMPRODUCT( ('Form responses'!B:B = $A4) * ((ISNUMBER(SEARCH("Store Late Opening", 'Form responses'!G:G))) + (ISNUMBER(SEARCH("Manager Lateness", 'Form responses'!G:G))) + (ISNUMBER(SEARCH("POS", 'Form responses'!G:G))) + (ISNUMBER(SEARCH("Store Standards", 'Form responses'!G:G))) + (ISNUMBER(SEARCH("Social Media", 'Form responses'!G:G))) + (ISNUMBER(SEARCH("Google Reviews", 'Form responses'!G:G))) + (ISNUMBER(SEARCH("Repairs/Returns", 'Form responses'!G:G))) + (ISNUMBER(SEARCH("Store Security", 'Form responses'!G:G))) + (ISNUMBER(SEARCH("Stock/Demos", 'Form responses'!G:G))) + (ISNUMBER(SEARCH("Bright HR", 'Form responses'!G:G))) )) ) -> 3.56 | G4: =4-COUNTIFS('Form responses'!B:B, A4, 'Form responses'!H:H, "Missed Deadline")*0.95 -> 3.05 | H4: =SUM(B4:G4)/6 -> 3.4016667
A5: Leeds: Crossgates | B5: =4 - (0.44 * SUMPRODUCT( ('Form responses'!B:B = $A5) * ((ISNUMBER(SEARCH("Customer Data", 'Form responses'!C:C))) + (ISNUMBER(SEARCH("Tablets Unattended", 'Form responses'!C:C))) + (ISNUMBER(SEARCH("Safe Unlocked", 'Form responses'!C:C))) + (ISNUMBER(SEARCH("Shredder Not in Use", 'Form responses'!C:C))) + (ISNUMBER(SEARCH("Accessing Customer's Account W/O Permissions", 'Form responses'!C:C))) + (ISNUMBER(SEARCH("Accessing F/F Accounts", 'Form responses'!C:C))) )) ) -> 3.12 | C5: =4 - (0.44 * SUMPRODUCT( ('Form responses'!B:B = $A5) * ((ISNUMBER(SEARCH("Flex Remedial", 'Form responses'!D:D))) + (ISNUMBER(SEARCH("Contract Errors", 'Form responses'!D:D))) + (ISNUMBER(SEARCH("Ofcom Knowledge", 'Form responses'!D:D))) + (ISNUMBER(SEARCH("FCA Knowledge", 'Form responses'!D:D))) + (ISNUMBER(SEARCH("FCA/OFCOM Complaint", 'Form responses'!D:D))) + (ISNUMBER(SEARCH("Flex Process", 'Form responses'!D:D))) + (ISNUMBER(SEARCH("Proofs", 'Form responses'!D:D))) )) ) -> 4 | D5: =4 - (0.44 * SUMPRODUCT( ('Form responses'!B:B = $A5) * ((ISNUMBER(SEARCH("Fire Book", 'Form responses'!E:E))) + (ISNUMBER(SEARCH("Fire Risk Assessments", 'Form responses'!E:E))) + (ISNUMBER(SEARCH("Cleanliness", 'Form responses'!E:E))) + (ISNUMBER(SEARCH("H&S", 'Form responses'!E:E))) + (ISNUMBER(SEARCH("H&S Knowledge", 'Form responses'!E:E))) )) ) -> 3.56 | E5: =4 - (0.44 * SUMPRODUCT( ('Form responses'!B:B = $A5) * ((ISNUMBER(SEARCH("System Misuse", 'Form responses'!F:F))) + (ISNUMBER(SEARCH("Misconduct", 'Form responses'!F:F))) + (ISNUMBER(SEARCH("Checklist Failures", 'Form responses'!F:F))) + (ISNUMBER(SEARCH("Sign in/out", 'Form responses'!F:F))) + (ISNUMBER(SEARCH("Blip", 'Form responses'!F:F))) + (ISNUMBER(SEARCH("Risk Escalations", 'Form responses'!F:F))) + (ISNUMBER(SEARCH("Reconcilation", 'Form responses'!F:F))) + (ISNUMBER(SEARCH("Website", 'Form responses'!F:F))) + (ISNUMBER(SEARCH("Banking", 'Form responses'!F:F))) + (ISNUMBER(SEARCH("Missed Declarations", 'Form responses'!F:F))) + (ISNUMBER(SEARCH("Missed Deadlines", 'Form responses'!F:F))) )) ) -> 2.24 | F5: =4 - (0.44 * SUMPRODUCT( ('Form responses'!B:B = $A5) * ((ISNUMBER(SEARCH("Store Late Opening", 'Form responses'!G:G))) + (ISNUMBER(SEARCH("Manager Lateness", 'Form responses'!G:G))) + (ISNUMBER(SEARCH("POS", 'Form responses'!G:G))) + (ISNUMBER(SEARCH("Store Standards", 'Form responses'!G:G))) + (ISNUMBER(SEARCH("Social Media", 'Form responses'!G:G))) + (ISNUMBER(SEARCH("Google Reviews", 'Form responses'!G:G))) + (ISNUMBER(SEARCH("Repairs/Returns", 'Form responses'!G:G))) + (ISNUMBER(SEARCH("Store Security", 'Form responses'!G:G))) + (ISNUMBER(SEARCH("Stock/Demos", 'Form responses'!G:G))) + (ISNUMBER(SEARCH("Bright HR", 'Form responses'!G:G))) )) ) -> 3.56 | G5: =4-COUNTIFS('Form responses'!B:B, A5, 'Form responses'!H:H, "Missed Deadline")*0.95 -> 4 | H5: =SUM(B5:G5)/6 -> 3.4133333
A6: Leeds: The Springs | B6: =4 - (0.44 * SUMPRODUCT( ('Form responses'!B:B = $A6) * ((ISNUMBER(SEARCH("Customer Data", 'Form responses'!C:C))) + (ISNUMBER(SEARCH("Tablets Unattended", 'Form responses'!C:C))) + (ISNUMBER(SEARCH("Safe Unlocked", 'Form responses'!C:C))) + (ISNUMBER(SEARCH("Shredder Not in Use", 'Form responses'!C:C))) + (ISNUMBER(SEARCH("Accessing Customer's Account W/O Permissions", 'Form responses'!C:C))) + (ISNUMBER(SEARCH("Accessing F/F Accounts", 'Form responses'!C:C))) )) ) -> 3.56 | C6: =4 - (0.44 * SUMPRODUCT( ('Form responses'!B:B = $A6) * ((ISNUMBER(SEARCH("Flex Remedial", 'Form responses'!D:D))) + (ISNUMBER(SEARCH("Contract Errors", 'Form responses'!D:D))) + (ISNUMBER(SEARCH("Ofcom Knowledge", 'Form responses'!D:D))) + (ISNUMBER(SEARCH("FCA Knowledge", 'Form responses'!D:D))) + (ISNUMBER(SEARCH("FCA/OFCOM Complaint", 'Form responses'!D:D))) + (ISNUMBER(SEARCH("Flex Process", 'Form responses'!D:D))) + (ISNUMBER(SEARCH("Proofs", 'Form responses'!D:D))) )) ) -> 4 | D6: =4 - (0.44 * SUMPRODUCT( ('Form responses'!B:B = $A6) * ((ISNUMBER(SEARCH("Fire Book", 'Form responses'!E:E))) + (ISNUMBER(SEARCH("Fire Risk Assessments", 'Form responses'!E:E))) + (ISNUMBER(SEARCH("Cleanliness", 'Form responses'!E:E))) + (ISNUMBER(SEARCH("H&S", 'Form responses'!E:E))) + (ISNUMBER(SEARCH("H&S Knowledge", 'Form responses'!E:E))) )) ) -> 3.56 | E6: =4 - (0.44 * SUMPRODUCT( ('Form responses'!B:B = $A6) * ((ISNUMBER(SEARCH("System Misuse", 'Form responses'!F:F))) + (ISNUMBER(SEARCH("Misconduct", 'Form responses'!F:F))) + (ISNUMBER(SEARCH("Checklist Failures", 'Form responses'!F:F))) + (ISNUMBER(SEARCH("Sign in/out", 'Form responses'!F:F))) + (ISNUMBER(SEARCH("Blip", 'Form responses'!F:F))) + (ISNUMBER(SEARCH("Risk Escalations", 'Form responses'!F:F))) + (ISNUMBER(SEARCH("Reconcilation", 'Form responses'!F:F))) + (ISNUMBER(SEARCH("Website", 'Form responses'!F:F))) + (ISNUMBER(SEARCH("Banking", 'Form responses'!F:F))) + (ISNUMBER(SEARCH("Missed Declarations", 'Form responses'!F:F))) + (ISNUMBER(SEARCH("Missed Deadlines", 'Form responses'!F:F))) )) ) -> 3.12 | F6: =4 - (0.44 * SUMPRODUCT( ('Form responses'!B:B = $A6) * ((ISNUMBER(SEARCH("Store Late Opening", 'Form responses'!G:G))) + (ISNUMBER(SEARCH("Manager Lateness", 'Form responses'!G:G))) + (ISNUMBER(SEARCH("POS", 'Form responses'!G:G))) + (ISNUMBER(SEARCH("Store Standards", 'Form responses'!G:G))) + (ISNUMBER(SEARCH("Social Media", 'Form responses'!G:G))) + (ISNUMBER(SEARCH("Google Reviews", 'Form responses'!G:G))) + (ISNUMBER(SEARCH("Repairs/Returns", 'Form responses'!G:G))) + (ISNUMBER(SEARCH("Store Security", 'Form responses'!G:G))) + (ISNUMBER(SEARCH("Stock/Demos", 'Form responses'!G:G))) + (ISNUMBER(SEARCH("Bright HR", 'Form responses'!G:G))) )) ) -> 4 | G6: =4-COUNTIFS('Form responses'!B:B, A6, 'Form responses'!H:H, "Missed Deadline")*0.95 -> 3.05 | H6: =SUM(B6:G6)/6 -> 3.5483333
A7: Pontefract | B7: =4 - (0.44 * SUMPRODUCT( ('Form responses'!B:B = $A7) * ((ISNUMBER(SEARCH("Customer Data", 'Form responses'!C:C))) + (ISNUMBER(SEARCH("Tablets Unattended", 'Form responses'!C:C))) + (ISNUMBER(SEARCH("Safe Unlocked", 'Form responses'!C:C))) + (ISNUMBER(SEARCH("Shredder Not in Use", 'Form responses'!C:C))) + (ISNUMBER(SEARCH("Accessing Customer's Account W/O Permissions", 'Form responses'!C:C))) + (ISNUMBER(SEARCH("Accessing F/F Accounts", 'Form responses'!C:C))) )) ) -> 3.56 | C7: =4 - (0.44 * SUMPRODUCT( ('Form responses'!B:B = $A7) * ((ISNUMBER(SEARCH("Flex Remedial", 'Form responses'!D:D))) + (ISNUMBER(SEARCH("Contract Errors", 'Form responses'!D:D))) + (ISNUMBER(SEARCH("Ofcom Knowledge", 'Form responses'!D:D))) + (ISNUMBER(SEARCH("FCA Knowledge", 'Form responses'!D:D))) + (ISNUMBER(SEARCH("FCA/OFCOM Complaint", 'Form responses'!D:D))) + (ISNUMBER(SEARCH("Flex Process", 'Form responses'!D:D))) + (ISNUMBER(SEARCH("Proofs", 'Form responses'!D:D))) )) ) -> 4 | D7: =4 - (0.44 * SUMPRODUCT( ('Form responses'!B:B = $A7) * ((ISNUMBER(SEARCH("Fire Book", 'Form responses'!E:E))) + (ISNUMBER(SEARCH("Fire Risk Assessments", 'Form responses'!E:E))) + (ISNUMBER(SEARCH("Cleanliness", 'Form responses'!E:E))) + (ISNUMBER(SEARCH("H&S", 'Form responses'!E:E))) + (ISNUMBER(SEARCH("H&S Knowledge", 'Form responses'!E:E))) )) ) -> 3.56 | E7: =4 - (0.44 * SUMPRODUCT( ('Form responses'!B:B = $A7) * ((ISNUMBER(SEARCH("System Misuse", 'Form responses'!F:F))) + (ISNUMBER(SEARCH("Misconduct", 'Form responses'!F:F))) + (ISNUMBER(SEARCH("Checklist Failures", 'Form responses'!F:F))) + (ISNUMBER(SEARCH("Sign in/out", 'Form responses'!F:F))) + (ISNUMBER(SEARCH("Blip", 'Form responses'!F:F))) + (ISNUMBER(SEARCH("Risk Escalations", 'Form responses'!F:F))) + (ISNUMBER(SEARCH("Reconcilation", 'Form responses'!F:F))) + (ISNUMBER(SEARCH("Website", 'Form responses'!F:F))) + (ISNUMBER(SEARCH("Banking", 'Form responses'!F:F))) + (ISNUMBER(SEARCH("Missed Declarations", 'Form responses'!F:F))) + (ISNUMBER(SEARCH("Missed Deadlines", 'Form responses'!F:F))) )) ) -> 2.68 | F7: =4 - (0.44 * SUMPRODUCT( ('Form responses'!B:B = $A7) * ((ISNUMBER(SEARCH("Store Late Opening", 'Form responses'!G:G))) + (ISNUMBER(SEARCH("Manager Lateness", 'Form responses'!G:G))) + (ISNUMBER(SEARCH("POS", 'Form responses'!G:G))) + (ISNUMBER(SEARCH("Store Standards", 'Form responses'!G:G))) + (ISNUMBER(SEARCH("Social Media", 'Form responses'!G:G))) + (ISNUMBER(SEARCH("Google Reviews", 'Form responses'!G:G))) + (ISNUMBER(SEARCH("Repairs/Returns", 'Form responses'!G:G))) + (ISNUMBER(SEARCH("Store Security", 'Form responses'!G:G))) + (ISNUMBER(SEARCH("Stock/Demos", 'Form responses'!G:G))) + (ISNUMBER(SEARCH("Bright HR", 'Form responses'!G:G))) )) ) -> 2.68 | G7: =4-COUNTIFS('Form responses'!B:B, A7, 'Form responses'!H:H, "Missed Deadline")*0.95 -> 4 | H7: =SUM(B7:G7)/6 -> 3.4133333
A8: Scunthorpe | B8: =4 - (0.44 * SUMPRODUCT( ('Form responses'!B:B = $A8) * ((ISNUMBER(SEARCH("Customer Data", 'Form responses'!C:C))) + (ISNUMBER(SEARCH("Tablets Unattended", 'Form responses'!C:C))) + (ISNUMBER(SEARCH("Safe Unlocked", 'Form responses'!C:C))) + (ISNUMBER(SEARCH("Shredder Not in Use", 'Form responses'!C:C))) + (ISNUMBER(SEARCH("Accessing Customer's Account W/O Permissions", 'Form responses'!C:C))) + (ISNUMBER(SEARCH("Accessing F/F Accounts", 'Form responses'!C:C))) )) ) -> 4 | C8: =4 - (0.44 * SUMPRODUCT( ('Form responses'!B:B = $A8) * ((ISNUMBER(SEARCH("Flex Remedial", 'Form responses'!D:D))) + (ISNUMBER(SEARCH("Contract Errors", 'Form responses'!D:D))) + (ISNUMBER(SEARCH("Ofcom Knowledge", 'Form responses'!D:D))) + (ISNUMBER(SEARCH("FCA Knowledge", 'Form responses'!D:D))) + (ISNUMBER(SEARCH("FCA/OFCOM Complaint", 'Form responses'!D:D))) + (ISNUMBER(SEARCH("Flex Process", 'Form responses'!D:D))) + (ISNUMBER(SEARCH("Proofs", 'Form responses'!D:D))) )) ) -> 4 | D8: =4 - (0.44 * SUMPRODUCT( ('Form responses'!B:B = $A8) * ((ISNUMBER(SEARCH("Fire Book", 'Form responses'!E:E))) + (ISNUMBER(SEARCH("Fire Risk Assessments", 'Form responses'!E:E))) + (ISNUMBER(SEARCH("Cleanliness", 'Form responses'!E:E))) + (ISNUMBER(SEARCH("H&S", 'Form responses'!E:E))) + (ISNUMBER(SEARCH("H&S Knowledge", 'Form responses'!E:E))) )) ) -> 4 | E8: =4 - (0.44 * SUMPRODUCT( ('Form responses'!B:B = $A8) * ((ISNUMBER(SEARCH("System Misuse", 'Form responses'!F:F))) + (ISNUMBER(SEARCH("Misconduct", 'Form responses'!F:F))) + (ISNUMBER(SEARCH("Checklist Failures", 'Form responses'!F:F))) + (ISNUMBER(SEARCH("Sign in/out", 'Form responses'!F:F))) + (ISNUMBER(SEARCH("Blip", 'Form responses'!F:F))) + (ISNUMBER(SEARCH("Risk Escalations", 'Form responses'!F:F))) + (ISNUMBER(SEARCH("Reconcilation", 'Form responses'!F:F))) + (ISNUMBER(SEARCH("Website", 'Form responses'!F:F))) + (ISNUMBER(SEARCH("Banking", 'Form responses'!F:F))) + (ISNUMBER(SEARCH("Missed Declarations", 'Form responses'!F:F))) + (ISNUMBER(SEARCH("Missed Deadlines", 'Form responses'!F:F))) )) ) -> 2.68 | F8: =4 - (0.44 * SUMPRODUCT( ('Form responses'!B:B = $A8) * ((ISNUMBER(SEARCH("Store Late Opening", 'Form responses'!G:G))) + (ISNUMBER(SEARCH("Manager Lateness", 'Form responses'!G:G))) + (ISNUMBER(SEARCH("POS", 'Form responses'!G:G))) + (ISNUMBER(SEARCH("Store Standards", 'Form responses'!G:G))) + (ISNUMBER(SEARCH("Social Media", 'Form responses'!G:G))) + (ISNUMBER(SEARCH("Google Reviews", 'Form responses'!G:G))) + (ISNUMBER(SEARCH("Repairs/Returns", 'Form responses'!G:G))) + (ISNUMBER(SEARCH("Store Security", 'Form responses'!G:G))) + (ISNUMBER(SEARCH("Stock/Demos", 'Form responses'!G:G))) + (ISNUMBER(SEARCH("Bright HR", 'Form responses'!G:G))) )) ) -> 4 | G8: =4-COUNTIFS('Form responses'!B:B, A8, 'Form responses'!H:H, "Missed Deadline")*0.95 -> 4 | H8: =SUM(B8:G8)/6 -> 3.78
A9: Selby | B9: =4 - (0.44 * SUMPRODUCT( ('Form responses'!B:B = $A9) * ((ISNUMBER(SEARCH("Customer Data", 'Form responses'!C:C))) + (ISNUMBER(SEARCH("Tablets Unattended", 'Form responses'!C:C))) + (ISNUMBER(SEARCH("Safe Unlocked", 'Form responses'!C:C))) + (ISNUMBER(SEARCH("Shredder Not in Use", 'Form responses'!C:C))) + (ISNUMBER(SEARCH("Accessing Customer's Account W/O Permissions", 'Form responses'!C:C))) + (ISNUMBER(SEARCH("Accessing F/F Accounts", 'Form responses'!C:C))) )) ) -> 4 | C9: =4 - (0.44 * SUMPRODUCT( ('Form responses'!B:B = $A9) * ((ISNUMBER(SEARCH("Flex Remedial", 'Form responses'!D:D))) + (ISNUMBER(SEARCH("Contract Errors", 'Form responses'!D:D))) + (ISNUMBER(SEARCH("Ofcom Knowledge", 'Form responses'!D:D))) + (ISNUMBER(SEARCH("FCA Knowledge", 'Form responses'!D:D))) + (ISNUMBER(SEARCH("FCA/OFCOM Complaint", 'Form responses'!D:D))) + (ISNUMBER(SEARCH("Flex Process", 'Form responses'!D:D))) + (ISNUMBER(SEARCH("Proofs", 'Form responses'!D:D))) )) ) -> 4 | D9: =4 - (0.44 * SUMPRODUCT( ('Form responses'!B:B = $A9) * ((ISNUMBER(SEARCH("Fire Book", 'Form responses'!E:E))) + (ISNUMBER(SEARCH("Fire Risk Assessments", 'Form responses'!E:E))) + (ISNUMBER(SEARCH("Cleanliness", 'Form responses'!E:E))) + (ISNUMBER(SEARCH("H&S", 'Form responses'!E:E))) + (ISNUMBER(SEARCH("H&S Knowledge", 'Form responses'!E:E))) )) ) -> 4 | E9: =4 - (0.44 * SUMPRODUCT( ('Form responses'!B:B = $A9) * ((ISNUMBER(SEARCH("System Misuse", 'Form responses'!F:F))) + (ISNUMBER(SEARCH("Misconduct", 'Form responses'!F:F))) + (ISNUMBER(SEARCH("Checklist Failures", 'Form responses'!F:F))) + (ISNUMBER(SEARCH("Sign in/out", 'Form responses'!F:F))) + (ISNUMBER(SEARCH("Blip", 'Form responses'!F:F))) + (ISNUMBER(SEARCH("Risk Escalations", 'Form responses'!F:F))) + (ISNUMBER(SEARCH("Reconcilation", 'Form responses'!F:F))) + (ISNUMBER(SEARCH("Website", 'Form responses'!F:F))) + (ISNUMBER(SEARCH("Banking", 'Form responses'!F:F))) + (ISNUMBER(SEARCH("Missed Declarations", 'Form responses'!F:F))) + (ISNUMBER(SEARCH("Missed Deadlines", 'Form responses'!F:F))) )) ) -> 3.12 | F9: =4 - (0.44 * SUMPRODUCT( ('Form responses'!B:B = $A9) * ((ISNUMBER(SEARCH("Store Late Opening", 'Form responses'!G:G))) + (ISNUMBER(SEARCH("Manager Lateness", 'Form responses'!G:G))) + (ISNUMBER(SEARCH("POS", 'Form responses'!G:G))) + (ISNUMBER(SEARCH("Store Standards", 'Form responses'!G:G))) + (ISNUMBER(SEARCH("Social Media", 'Form responses'!G:G))) + (ISNUMBER(SEARCH("Google Reviews", 'Form responses'!G:G))) + (ISNUMBER(SEARCH("Repairs/Returns", 'Form responses'!G:G))) + (ISNUMBER(SEARCH("Store Security", 'Form responses'!G:G))) + (ISNUMBER(SEARCH("Stock/Demos", 'Form responses'!G:G))) + (ISNUMBER(SEARCH("Bright HR", 'Form responses'!G:G))) )) ) -> 4 | G9: =4-COUNTIFS('Form responses'!B:B, A9, 'Form responses'!H:H, "Missed Deadline")*0.95 -> 4 | H9: =SUM(B9:G9)/6 -> 3.8533333
A10: Shipley | B10: =4 - (0.44 * SUMPRODUCT( ('Form responses'!B:B = $A10) * ((ISNUMBER(SEARCH("Customer Data", 'Form responses'!C:C))) + (ISNUMBER(SEARCH("Tablets Unattended", 'Form responses'!C:C))) + (ISNUMBER(SEARCH("Safe Unlocked", 'Form responses'!C:C))) + (ISNUMBER(SEARCH("Shredder Not in Use", 'Form responses'!C:C))) + (ISNUMBER(SEARCH("Accessing Customer's Account W/O Permissions", 'Form responses'!C:C))) + (ISNUMBER(SEARCH("Accessing F/F Accounts", 'Form responses'!C:C))) )) ) -> 4 | C10: =4 - (0.44 * SUMPRODUCT( ('Form responses'!B:B = $A10) * ((ISNUMBER(SEARCH("Flex Remedial", 'Form responses'!D:D))) + (ISNUMBER(SEARCH("Contract Errors", 'Form responses'!D:D))) + (ISNUMBER(SEARCH("Ofcom Knowledge", 'Form responses'!D:D))) + (ISNUMBER(SEARCH("FCA Knowledge", 'Form responses'!D:D))) + (ISNUMBER(SEARCH("FCA/OFCOM Complaint", 'Form responses'!D:D))) + (ISNUMBER(SEARCH("Flex Process", 'Form responses'!D:D))) + (ISNUMBER(SEARCH("Proofs", 'Form responses'!D:D))) )) ) -> 4 | D10: =4 - (0.44 * SUMPRODUCT( ('Form responses'!B:B = $A10) * ((ISNUMBER(SEARCH("Fire Book", 'Form responses'!E:E))) + (ISNUMBER(SEARCH("Fire Risk Assessments", 'Form responses'!E:E))) + (ISNUMBER(SEARCH("Cleanliness", 'Form responses'!E:E))) + (ISNUMBER(SEARCH("H&S", 'Form responses'!E:E))) + (ISNUMBER(SEARCH("H&S Knowledge", 'Form responses'!E:E))) )) ) -> 4 | E10: =4 - (0.44 * SUMPRODUCT( ('Form responses'!B:B = $A10) * ((ISNUMBER(SEARCH("System Misuse", 'Form responses'!F:F))) + (ISNUMBER(SEARCH("Misconduct", 'Form responses'!F:F))) + (ISNUMBER(SEARCH("Checklist Failures", 'Form responses'!F:F))) + (ISNUMBER(SEARCH("Sign in/out", 'Form responses'!F:F))) + (ISNUMBER(SEARCH("Blip", 'Form responses'!F:F))) + (ISNUMBER(SEARCH("Risk Escalations", 'Form responses'!F:F))) + (ISNUMBER(SEARCH("Reconcilation", 'Form responses'!F:F))) + (ISNUMBER(SEARCH("Website", 'Form responses'!F:F))) + (ISNUMBER(SEARCH("Banking", 'Form responses'!F:F))) + (ISNUMBER(SEARCH("Missed Declarations", 'Form responses'!F:F))) + (ISNUMBER(SEARCH("Missed Deadlines", 'Form responses'!F:F))) )) ) -> 2.68 | F10: =4 - (0.44 * SUMPRODUCT( ('Form responses'!B:B = $A10) * ((ISNUMBER(SEARCH("Store Late Opening", 'Form responses'!G:G))) + (ISNUMBER(SEARCH("Manager Lateness", 'Form responses'!G:G))) + (ISNUMBER(SEARCH("POS", 'Form responses'!G:G))) + (ISNUMBER(SEARCH("Store Standards", 'Form responses'!G:G))) + (ISNUMBER(SEARCH("Social Media", 'Form responses'!G:G))) + (ISNUMBER(SEARCH("Google Reviews", 'Form responses'!G:G))) + (ISNUMBER(SEARCH("Repairs/Returns", 'Form responses'!G:G))) + (ISNUMBER(SEARCH("Store Security", 'Form responses'!G:G))) + (ISNUMBER(SEARCH("Stock/Demos", 'Form responses'!G:G))) + (ISNUMBER(SEARCH("Bright HR", 'Form responses'!G:G))) )) ) -> 3.12 | G10: =4-COUNTIFS('Form responses'!B:B, A10, 'Form responses'!H:H, "Missed Deadline")*0.95 -> 4 | H10: =SUM(B10:G10)/6 -> 3.6333333
A11: Skipton | B11: =4 - (0.44 * SUMPRODUCT( ('Form responses'!B:B = $A11) * ((ISNUMBER(SEARCH("Customer Data", 'Form responses'!C:C))) + (ISNUMBER(SEARCH("Tablets Unattended", 'Form responses'!C:C))) + (ISNUMBER(SEARCH("Safe Unlocked", 'Form responses'!C:C))) + (ISNUMBER(SEARCH("Shredder Not in Use", 'Form responses'!C:C))) + (ISNUMBER(SEARCH("Accessing Customer's Account W/O Permissions", 'Form responses'!C:C))) + (ISNUMBER(SEARCH("Accessing F/F Accounts", 'Form responses'!C:C))) )) ) -> 3.56 | C11: =4 - (0.44 * SUMPRODUCT( ('Form responses'!B:B = $A11) * ((ISNUMBER(SEARCH("Flex Remedial", 'Form responses'!D:D))) + (ISNUMBER(SEARCH("Contract Errors", 'Form responses'!D:D))) + (ISNUMBER(SEARCH("Ofcom Knowledge", 'Form responses'!D:D))) + (ISNUMBER(SEARCH("FCA Knowledge", 'Form responses'!D:D))) + (ISNUMBER(SEARCH("FCA/OFCOM Complaint", 'Form responses'!D:D))) + (ISNUMBER(SEARCH("Flex Process", 'Form responses'!D:D))) + (ISNUMBER(SEARCH("Proofs", 'Form responses'!D:D))) )) ) -> 4 | D11: =4 - (0.44 * SUMPRODUCT( ('Form responses'!B:B = $A11) * ((ISNUMBER(SEARCH("Fire Book", 'Form responses'!E:E))) + (ISNUMBER(SEARCH("Fire Risk Assessments", 'Form responses'!E:E))) + (ISNUMBER(SEARCH("Cleanliness", 'Form responses'!E:E))) + (ISNUMBER(SEARCH("H&S", 'Form responses'!E:E))) + (ISNUMBER(SEARCH("H&S Knowledge", 'Form responses'!E:E))) )) ) -> 4 | E11: =4 - (0.44 * SUMPRODUCT( ('Form responses'!B:B = $A11) * ((ISNUMBER(SEARCH("System Misuse", 'Form responses'!F:F))) + (ISNUMBER(SEARCH("Misconduct", 'Form responses'!F:F))) + (ISNUMBER(SEARCH("Checklist Failures", 'Form responses'!F:F))) + (ISNUMBER(SEARCH("Sign in/out", 'Form responses'!F:F))) + (ISNUMBER(SEARCH("Blip", 'Form responses'!F:F))) + (ISNUMBER(SEARCH("Risk Escalations", 'Form responses'!F:F))) + (ISNUMBER(SEARCH("Reconcilation", 'Form responses'!F:F))) + (ISNUMBER(SEARCH("Website", 'Form responses'!F:F))) + (ISNUMBER(SEARCH("Banking", 'Form responses'!F:F))) + (ISNUMBER(SEARCH("Missed Declarations", 'Form responses'!F:F))) + (ISNUMBER(SEARCH("Missed Deadlines", 'Form responses'!F:F))) )) ) -> 1.36 | F11: =4 - (0.44 * SUMPRODUCT( ('Form responses'!B:B = $A11) * ((ISNUMBER(SEARCH("Store Late Opening", 'Form responses'!G:G))) + (ISNUMBER(SEARCH("Manager Lateness", 'Form responses'!G:G))) + (ISNUMBER(SEARCH("POS", 'Form responses'!G:G))) + (ISNUMBER(SEARCH("Store Standards", 'Form responses'!G:G))) + (ISNUMBER(SEARCH("Social Media", 'Form responses'!G:G))) + (ISNUMBER(SEARCH("Google Reviews", 'Form responses'!G:G))) + (ISNUMBER(SEARCH("Repairs/Returns", 'Form responses'!G:G))) + (ISNUMBER(SEARCH("Store Security", 'Form responses'!G:G))) + (ISNUMBER(SEARCH("Stock/Demos", 'Form responses'!G:G))) + (ISNUMBER(SEARCH("Bright HR", 'Form responses'!G:G))) )) ) -> 3.56 | G11: =4-COUNTIFS('Form responses'!B:B, A11, 'Form responses'!H:H, "Missed Deadline")*0.95 -> 3.05 | H11: =SUM(B11:G11)/6 -> 3.255
