Workbook

Sheet Form responses
A1: Submission Date | B1: Store | C1: DPA | D1: OFCOM/FCA | E1: Health and Safety | F1: Policy and Behaviour | G1: Brand Reputation | H1: Training | I1: Date | J1: File Upload | K1: Notes: | L1: Submission ID
A2: 45601.523 | B2: Halifax | C2: Customer Data Tablets Unattended | E2: H&S Knowledge | I2: 45302 | L2: 6066192248214775588
A3: 45601.527 | B3: Pontefract | C3: Safe Unlocked | F3: Sign in/out | I3: 45393 | L3: 6066195108216222058
A4: 45602.608 | B4: Goole | C4: Customer Data Safe Unlocked | E4: Fire Book H&S Knowledge | G4: Store Security | I4: 45423 | L4: 6067129512217662624
A5: 45602.609 | B5: Leeds: Crossgates | G5: Stock/Demos | I5: 45454 | L5: 6067129902213819804
A6: 45603.419 | B6: Pontefract | G6: Store Standards | I6: 45393 | L6: 6067830138494073167
A7: 45603.42 | B7: Goole | G7: Store Standards | I7: 45423 | L7: 6067830608495475509
A8: 45604.417 | B8: Dewsbury | C8: Customer Data Tablets Unattended | D8: OFCOM Knowledge | F8: Reconcilation | G8: POS | I8: 45484 | L8: 6068692394816927651
A9: 45604.47 | B9: Dewsbury | G9: Bright HR | I9: 45484 | J9: https://eu.jotform.com/uploads/familyconnectee/242774133829059/6068738254907196705/IMG_7942.png | L9: 6068738254907196705
A10: 45604.471 | B10: Halifax | G10: Bright HR | I10: 45454 | J10: https://eu.jotform.com/uploads/familyconnectee/242774133829059/6068739111901191700/IMG_7943.png | L10: 6068739111901191700
A11: 45604.472 | B11: Selby | G11: Bright HR | I11: 45454 | J11: https://eu.jotform.com/uploads/familyconnectee/242774133829059/6068739421902571317/IMG_7943.png | L11: 6068739421902571317
A12: 45604.474 | B12: Dewsbury | G12: Bright HR | I12: 45333 | J12: https://eu.jotform.com/uploads/familyconnectee/242774133829059/6068741530666595236/IMG_7944.png | L12: 6068741530666595236
A13: 45607.427 | B13: Scunthorpe | C13: Customer Data | F13: Sign in/out | G13: Stock/Demos | I13: 45604 | L13: 6071293211022980069
A14: 45607.43 | B14: Leeds: Crossgates | G14: Bright HR | I14: 45605 | J14: https://eu.jotform.com/uploads/familyconnectee/242774133829059/6071295271403864513/IMG_7977.png | K14: Braden Not clocked out on 9th November | L14: 6071295271403864513
A15: 45607.431 | B15: Skipton | G15: Bright HR | I15: 45606 | J15: https://eu.jotform.com/uploads/familyconnectee/242774133829059/6071296291409953834/IMG_7978.png | K15: Liam failed to clock out on 10th November | L15: 6071296291409953834
A16: 45608.425 | B16: Pontefract | G16: Social Media | I16: 45607 | K16: Posting a photo in EE uniform. | L16: 6072155148496348248
A17: 45608.427 | B17: Shipley | C17: Customer Data | I17: 45604 | K17: Customer data was left unattended on printer upstairs. | L17: 6072156688497636349
A18: 45608.428 | B18: Leeds: The Springs | F18: Sign in/out | I18: 45604 | K18: Masih was not signed in upon his entry to the store. | L18: 6072157828498035240
A19: 45610.428 | B19: Dewsbury | F19: Website | I19: 45610 | K19: Customer outcome and NPS has not been updated. | L19: 6073885558214969736
A20: 45610.433 | B20: Leeds: The Springs | F20: Checklist Failures | I20: 45609 | K20: Ped checklist has not been completed.t’s really important to complete your PED checks before trading. | L20: 6073890128212026524
A21: 45610.433 | B21: Goole | I21: 45607 | J21: https://eu.jotform.com/uploads/familyconnectee/242774133829059/6073890547647574963/IMG_7997.png | K21: Cameron failed to clock out Monday 11th Nov | L21: 6073890547647574963
A22: 45610.434 | B22: Goole | F22: Checklist Failures | I22: 45609 | K22: Ped checklist has not been completed. It’s really important to complete your PED checks before trading. | L22: 6073890718218877519
A23: 45610.435 | B23: Dewsbury | G23: Bright HR | I23: 45608 | J23: https://eu.jotform.com/uploads/familyconnectee/242774133829059/6073892110749253073/IMG_7998.png | K23: Failed to clock out 12th November | L23: 6073892110749253073
A24: 45611.611 | B24: Selby | C24: Customer Data Tablets Unattended | F24: Sign in/out | I24: 45611 | J24: https://eu.jotform.com/uploads/familyconnectee/242774133829059/6074908272382153329/b27b034c-c2b0-4304-ba55-dc4fd60bf3c9.JPG | K24: Sally and Masih have not signed in today. Member of public sensitive information was left unattended on office table. Taylor left his tablet unattended on shopfloor. | L24: 6074908272382153329
A25: 45611.637 | B25: Goole | F25: Checklist Failures | I25: 45610 | K25: PED checklist none compliant. 14th on Nov | L25: 6074930432384067252
A26: 45611.682 | B26: Dewsbury | C26: Customer Data | D26: OFCOM Knowledge FCA Knowledge | E26: Fire Book | F26: Checklist Failures Sign in/out Reconcilation Missed Declarations | I26: 45611 | K26: Hi, The above checklist has been completed based on your recent compliance visit. | L26: 6074969272389429560
A27: 45611.694 | B27: Pontefract | D27: FCA Knowledge FCA/OFCOM Complaint | F27: Risk Escalations Missed Declarations | I27: 45611 | K27: Hi, Well done for the over 91% flex assessment however the above has been highlighted in your recent compliance visit. Please make sure to send the Fraud escalation declaration to all staff member to sign. I will review your assessment on my next visit. | L27: 6074979202386579628
A28: 45611.702 | B28: Halifax | D28: Flex Process | E28: H&S Knowledge | F28: Checklist Failures Sign in/out Reconcilation Missed Declarations | I28: 45611 | K28: Hi, The above checklist has been submitted based on your recent compliance visit. please review and take corrective action. any outstanding could be marked again on your checklist. well done for the 100% FCA knowledge. | L28: 6074986922387597993
A29: 45611.704 | B29: Halifax | H29: Missed Deadline | I29: 45611 | K29: First Aid Training to be completed by Chris. | L29: 6074988002385684365
A30: 45614.408 | B30: Halifax | C30: Customer Data Tablets Unattended | I30: 45614 | J30: https://eu.jotform.com/uploads/familyconnectee/242774133829059/6077324302113989665/cf046c81-b55b-4bf0-a27c-68c1d2070879.jpeg | K30: Customer information and tablet was left unattended on the table in the office. | L30: 6077324302113989665
A31: 45614.41 | B31: Leeds: Crossgates | F31: Sign in/out | I31: 45614 | J31: https://eu.jotform.com/uploads/familyconnectee/242774133829059/6077326651565731494/image.jpg | K31: Braden not signed in. | L31: 6077326651565731494
A32: 45614.435 | B32: Shipley | F32: Sign in/out | I32: 45614 | K32: David has not been asked to sign in. | L32: 6077347628495311185
A33: 45615.518 | B33: Leeds: The Springs | C33: Customer Data | I33: 45611 | J33: https://eu.jotform.com/uploads/familyconnectee/242774133829059/6078283209014626288/IMG_1127.jpeg https://eu.jotform.com/uploads/familyconnectee/242774133829059/6078283209014626288/IMG_1120.jpeg https://eu.jotform.com/uploads/familyconnectee/242774133829059/6078283209014626288/IMG_1126.jpeg | K33: Customer data was left unattended on the table. | L33: 6078283209014626288
A34: 45615.519 | B34: Leeds: Crossgates | D34: OFCOM Knowledge FCA Knowledge | I34: 45614 | K34: FCA and Ofcom complaint process knowledge was not up to standard in store. It’s important for the team members to know the process for the store to be compliant. FCA knowledge training on my compass could help with the knowledge of the team. | L34: 6078284659014966312
A35: 45615.524 | B35: Goole | F35: Checklist Failures | I35: 45614 | K35: Ped checklist has not been completed. | L35: 6078289122318050944
A36: 45615.526 | B36: Skipton | F36: Sign in/out | I36: 45615 | K36: Masih has not been asked to sign in. | L36: 6078290838312979330
A37: 45615.556 | B37: Dewsbury | G37: Social Media | I37: 45615 | J37: https://eu.jotform.com/uploads/familyconnectee/242774133829059/6078316311111406252/79008199-06db-41a2-b2cd-9c12cc9386e4.jpeg | K37: Breach of social media policy by Yakub Ali. | L37: 6078316311111406252
A38: 45615.605 | B38: Scunthorpe | F38: Missed Deadlines | I38: 45615 | K38: November and December managers rota yet to be complete. | L38: 6078358808029525005
A39: 45615.647 | B39: Shipley | G39: POS | I39: 45615 | K39: POS has not been updated. | L39: 6078394608029037470
A40: 45616.496 | B40: Pontefract | C40: Customer Data Tablets Unattended | D40: OFCOM Knowledge | G40: POS Store Standards | I40: 45615 | J40: https://eu.jotform.com/uploads/familyconnectee/242774133829059/6079128918319463156/IMG_1202.jpeg https://eu.jotform.com/uploads/familyconnectee/242774133829059/6079128918319463156/IMG_1201.jpeg https://eu.jotform.com/uploads/familyconnectee/242774133829059/6079128918319463156/IMG_1200.jpeg https://eu.jotform.com/uploads/familyconnectee/242774133829059/6079128918319463156/IMG_1203.jpeg https://eu.jotform.com/uploads/familyconnectee/242774133829059/6079128918319463156/IMG_1199.jpeg https://eu.jotform.com/uploads/familyconnectee/242774133829059/6079128918319463156/IMG_1198.jpeg https://eu.jotform.com/uploads/familyconnectee/242774133829059/6079128918319463156/IMG_1197.jpeg | K40: Hi Hayley, During my visit yesterday above has been marked as shortfalls identified. Store standard has been mentioned to you during my previous visit. Please make sure store cleanliness is up to standard specially when it comes to door Mat and behind the fixtures. | L40: 6079128918319463156
A41: 45617.475 | B41: Dewsbury | F41: Banking | I41: 45617 | J41: https://eu.jotform.com/uploads/familyconnectee/242774133829059/6079974178219469115/Screenshot%202024-11-21%20at%2011.23.20.png | K41: Failure to Update banking for 10 days. | L41: 6079974178219469115
A42: 45617.475 | B42: Halifax | F42: Banking | I42: 45617 | K42: Banking not been completed as per guideline. | L42: 6079974648211690510
A43: 45617.476 | B43: Pontefract | F43: Banking | I43: 45617 | K43: Banking has not been completed since 18th of November. | L43: 6079975308215329715
A44: 45617.547 | B44: Scunthorpe | D44: Flex Remedial | I44: 45617 | J44: https://eu.jotform.com/uploads/familyconnectee/242774133829059/6080036988217055847/Screenshot%202024-11-21%20at%2012.58.00.png | K44: Hi Lisa, Following our phone conversation, Daniel has not sent the flex basket to the customer. | L44: 6080036988217055847
A45: 45618.405 | B45: Dewsbury | F45: Sign in/out | I45: 45618 | K45: Only Kirsty has sign in. | L45: 6080777669123910716
A46: 45618.46 | B46: Dewsbury | C46: Customer Data | I46: 45618 | J46: https://eu.jotform.com/uploads/familyconnectee/242774133829059/6080825029126116181/WhatsApp%20Image%202024-11-22%20at%2010.03.09.jpeg https://eu.jotform.com/uploads/familyconnectee/242774133829059/6080825029126116181/WhatsApp%20Image%202024-11-22%20at%2010.03.08%20%281%29.jpeg https://eu.jotform.com/uploads/familyconnectee/242774133829059/6080825029126116181/WhatsApp%20Image%202024-11-22%20at%2010.03.08.jpeg | L46: 6080825029126116181
A47: 45621.464 | B47: Goole | F47: Checklist Failures | I47: 45618 | K47: Ped Checklist has not been completed on 22nd of Nov. | L47: 6083420990211496998
A48: 45621.679 | B48: Dewsbury | F48: Checklist Failures | I48: 45619 | K48: PED checklist has not been completed before store opening. | L48: 6083606640218808957
A49: 45621.69 | B49: Dewsbury | F49: Sign in/out | I49: 45621 | K49: Masih has not been signed in/ Our or bag search on his visit today. | L49: 6083616470213965579
A50: 45622.406 | B50: Dewsbury | F50: Checklist Failures | I50: 45621 | K50: Ped checklist has not been completed before 9 AM yesterday. | L50: 6084234518491741666
A51: 45622.406 | B51: Leeds: Crossgates | F51: Checklist Failures | I51: 45621 | K51: Ped checklist has not been completed before store opening yesterday. | L51: 6084234938491388667
A52: 45622.407 | B52: Goole | F52: Checklist Failures | I52: 45621 | K52: The daily PED checks for your store on 25/11/2024 were not completed prior to your store opening time as per policy. | L52: 6084235828498375198
A53: 45622.419 | B53: Selby | C53: Customer Data | D53: FCA/OFCOM Complaint | E53: Fire Risk Assesments | F53: Sign in/out Missed Declarations | I53: 45621 | K53: Lucas and Kelly never been asked to sign in. Sally was unaware of Ofcom Compliant process. Fire risk assessment action plan was not signed. Caitlin was missing a declaration. Archiving has not be secured and Customer data was at unnecessary risk. | L53: 6084245628494493101
A54: 45622.683 | B54: Leeds: Crossgates | F54: Sign in/out | I54: 45622 | K54: David has never been asked to sign in. | L54: 6084474348498155599
A55: 45624.466 | B55: Pontefract | F55: Sign in/out | I55: 45624 | K55: Masih has not been asked to sign in. | L55: 6086014562529299836
A56: 45624.709 | B56: Shipley | C56: Customer Data Tablets Unattended | D56: FCA/OFCOM Complaint | E56: Fire Risk Assesments H&S Knowledge | F56: Sign in/out Banking Missed Declarations | G56: POS Stock/Demos Bright HR | H56: Missed Deadline | I56: 45624 | K56: Hi Jacob, I will need to actually on the above in your store and have a fresh start in December so hopefully the store stand increases. | L56: 6086224450908816364
A57: 45625.457 | B57: Shipley | F57: Sign in/out | I57: 45625 | K57: Masih has not been asked to sign in. | L57: 6086870621025191741
A58: 45628.334 | B58: Selby | G58: Bright HR | I58: 45626 | J58: https://eu.jotform.com/uploads/familyconnectee/242774133829059/6089356294543967504/IMG_8190.png | K58: Paul Failed to sign Out (Sat 30th) | L58: 6089356294543967504
A59: 45628.335 | B59: Pontefract | G59: Bright HR | I59: 45626 | J59: https://eu.jotform.com/uploads/familyconnectee/242774133829059/6089357098764680472/IMG_8190.png | K59: Mason failed to clock out 30th November | L59: 6089357098764680472
A60: 45628.335 | B60: Scunthorpe | G60: Bright HR | I60: 45626 | J60: https://eu.jotform.com/uploads/familyconnectee/242774133829059/6089357545547635512/IMG_8190.png | K60: Reeno called to clock out 30th November | L60: 6089357545547635512

Sheet ScoreCard
A1: Store Name | B1: DPA | C1: OFCOM/FCA | D1: Health & Safety | E1: Policy & Behaviour | F1: Brand Reputition | G1: Training | H1: Total Score
A2: Dewsbury | B2: =4 - (0.44 * SUMPRODUCT( ('Form responses'!B:B = $A2) * ((ISNUMBER(SEARCH("Customer Data", 'Form responses'!C:C))) + (ISNUMBER(SEARCH("Tablets Unattended", 'Form responses'!C:C))) + (ISNUMBER(SEARCH("Safe Unlocked", 'Form responses'!C:C))) + (ISNUMBER(SEARCH("Shredder Not in Use", 'Form responses'!C:C))) + (ISNUMBER(SEARCH("Accessing Customer's Account W/O Permissions", 'Form responses'!C:C))) + (ISNUMBER(SEARCH("Accessing F/F Accounts", 'Form responses'!C:C))) )) ) -> 2.24 | C2: =4 - (0.44 * SUMPRODUCT( ('Form responses'!B:B = $A2) * ((ISNUMBER(SEARCH("Flex Remedial", 'Form responses'!D:D))) + (ISNUMBER(SEARCH("Contract Errors", 'Form responses'!D:D))) + (ISNUMBER(SEARCH("Ofcom Knowledge", 'Form responses'!D:D))) + (ISNUMBER(SEARCH("FCA Knowledge", 'Form responses'!D:D))) + (ISNUMBER(SEARCH("FCA/OFCOM Complaint", 'Form responses'!D:D))) + (ISNUMBER(SEARCH("Flex Process", 'Form responses'!D:D))) + (ISNUMBER(SEARCH("Proofs", 'Form responses'!D:D))) )) ) -> 2.68 | D2: =4 - (0.44 * SUMPRODUCT( ('Form responses'!B:B = $A2) * ((ISNUMBER(SEARCH("Fire Book", 'Form responses'!E:E))) + (ISNUMBER(SEARCH("Fire Risk Assessments", 'Form responses'!E:E))) + (ISNUMBER(SEARCH("Cleanliness", 'Form responses'!E:E))) + (ISNUMBER(SEARCH("H&S board", 'Form responses'!E:E))) + (ISNUMBER(SEARCH("H&S Knowledge", 'Form responses'!E:E))) )) ) -> 3.56 | E2: =4 - (0.44 * SUMPRODUCT( ('Form responses'!B:B = $A2) * ((ISNUMBER(SEARCH("System Misuse", 'Form responses'!F:F))) + (ISNUMBER(SEARCH("Misconduct", 'Form responses'!F:F))) + (ISNUMBER(SEARCH("Checklist Failures", 'Form responses'!F:F))) + (ISNUMBER(SEARCH("Sign in/out", 'Form responses'!F:F))) + (ISNUMBER(SEARCH("Risk Escalations", 'Form responses'!F:F))) + (ISNUMBER(SEARCH("Reconcilation", 'Form responses'!F:F))) + (ISNUMBER(SEARCH("Website", 'Form responses'!F:F))) + (ISNUMBER(SEARCH("Banking", 'Form responses'!F:F))) + (ISNUMBER(SEARCH("Missed Declarations", 'Form responses'!F:F))) + (ISNUMBER(SEARCH("Missed Deadlines", 'Form responses'!F:F))) )) ) -> -0.84 | F2: =4 - (0.44 * SUMPRODUCT( ('Form responses'!B:B = $A2) * ((ISNUMBER(SEARCH("Store Late Opening", 'Form responses'!G:G))) + (ISNUMBER(SEARCH("Manager Lateness", 'Form responses'!G:G))) + (ISNUMBER(SEARCH("POS", 'Form responses'!G:G))) + (ISNUMBER(SEARCH("Store Standards", 'Form responses'!G:G))) + (ISNUMBER(SEARCH("Social Media", 'Form responses'!G:G))) + (ISNUMBER(SEARCH("Google Reviews", 'Form responses'!G:G))) + (ISNUMBER(SEARCH("Repairs/Returns", 'Form responses'!G:G))) + (ISNUMBER(SEARCH("Store Security", 'Form responses'!G:G))) + (ISNUMBER(SEARCH("Stock/Demos", 'Form responses'!G:G))) + (ISNUMBER(SEARCH("Bright HR", 'Form responses'!G:G))) )) ) -> 1.8 | G2: =4-COUNTIFS('Form responses'!B:B, A2, 'Form responses'!H:H, "Missed Deadline")*0.95 -> 4 | H2: =SUM(B2:G2)/6 -> 2.24
A3: Goole | B3: =4 - (0.44 * SUMPRODUCT( ('Form responses'!B:B = $A3) * ((ISNUMBER(SEARCH("Customer Data", 'Form responses'!C:C))) + (ISNUMBER(SEARCH("Tablets Unattended", 'Form responses'!C:C))) + (ISNUMBER(SEARCH("Safe Unlocked", 'Form responses'!C:C))) + (ISNUMBER(SEARCH("Shredder Not in Use", 'Form responses'!C:C))) + (ISNUMBER(SEARCH("Accessing Customer's Account W/O Permissions", 'Form responses'!C:C))) + (ISNUMBER(SEARCH("Accessing F/F Accounts", 'Form responses'!C:C))) )) ) -> 3.12 | C3: =4 - (0.44 * SUMPRODUCT( ('Form responses'!B:B = $A3) * ((ISNUMBER(SEARCH("Flex Remedial", 'Form responses'!D:D))) + (ISNUMBER(SEARCH("Contract Errors", 'Form responses'!D:D))) + (ISNUMBER(SEARCH("Ofcom Knowledge", 'Form responses'!D:D))) + (ISNUMBER(SEARCH("FCA Knowledge", 'Form responses'!D:D))) + (ISNUMBER(SEARCH("FCA/OFCOM Complaint", 'Form responses'!D:D))) + (ISNUMBER(SEARCH("Flex Process", 'Form responses'!D:D))) + (ISNUMBER(SEARCH("Proofs", 'Form responses'!D:D))) )) ) -> 4 | D3: =4 - (0.44 * SUMPRODUCT( ('Form responses'!B:B = $A3) * ((ISNUMBER(SEARCH("Fire Book", 'Form responses'!E:E))) + (ISNUMBER(SEARCH("Fire Risk Assessments", 'Form responses'!E:E))) + (ISNUMBER(SEARCH("Cleanliness", 'Form responses'!E:E))) + (ISNUMBER(SEARCH("H&S board", 'Form responses'!E:E))) + (ISNUMBER(SEARCH("H&S Knowledge", 'Form responses'!E:E))) )) ) -> 3.12 | E3: =4 - (0.44 * SUMPRODUCT( ('Form responses'!B:B = $A3) * ((ISNUMBER(SEARCH("System Misuse", 'Form responses'!F:F))) + (ISNUMBER(SEARCH("Misconduct", 'Form responses'!F:F))) + (ISNUMBER(SEARCH("Checklist Failures", 'Form responses'!F:F))) + (ISNUMBER(SEARCH("Sign in/out", 'Form responses'!F:F))) + (ISNUMBER(SEARCH("Risk Escalations", 'Form responses'!F:F))) + (ISNUMBER(SEARCH("Reconciliation", 'Form responses'!F:F))) + (ISNUMBER(SEARCH("Website", 'Form responses'!F:F))) + (ISNUMBER(SEARCH("Banking", 'Form responses'!F:F))) + (ISNUMBER(SEARCH("Missed Declarations", 'Form responses'!F:F))) + (ISNUMBER(SEARCH("Missed Deadlines", 'Form responses'!F:F))) )) ) -> 1.8 | F3: =4 - (0.44 * SUMPRODUCT( ('Form responses'!B:B = $A3) * ((ISNUMBER(SEARCH("Store Late Opening", 'Form responses'!G:G))) + (ISNUMBER(SEARCH("Manager Lateness", 'Form responses'!G:G))) + (ISNUMBER(SEARCH("POS", 'Form responses'!G:G))) + (ISNUMBER(SEARCH("Store Standards", 'Form responses'!G:G))) + (ISNUMBER(SEARCH("Social Media", 'Form responses'!G:G))) + (ISNUMBER(SEARCH("Google Reviews", 'Form responses'!G:G))) + (ISNUMBER(SEARCH("Repairs/Returns", 'Form responses'!G:G))) + (ISNUMBER(SEARCH("Store Security", 'Form responses'!G:G))) + (ISNUMBER(SEARCH("Stock/Demos", 'Form responses'!G:G))) + (ISNUMBER(SEARCH("Bright HR", 'Form responses'!G:G))) )) ) -> 3.12 | G3: =4-COUNTIFS('Form responses'!B:B, A3, 'Form responses'!H:H, "Missed Deadline")*0.95 -> 4 | H3: =SUM(B3:G3)/6 -> 3.1933333
A4: Halifax | B4: =4 - (0.44 * SUMPRODUCT( ('Form responses'!B:B = $A4) * ((ISNUMBER(SEARCH("Customer Data", 'Form responses'!C:C))) + (ISNUMBER(SEARCH("Tablets Unattended", 'Form responses'!C:C))) + (ISNUMBER(SEARCH("Safe Unlocked", 'Form responses'!C:C))) + (ISNUMBER(SEARCH("Shredder Not in Use", 'Form responses'!C:C))) + (ISNUMBER(SEARCH("Accessing Customer's Account W/O Permissions", 'Form responses'!C:C))) + (ISNUMBER(SEARCH("Accessing F/F Accounts", 'Form responses'!C:C))) )) ) -> 2.24 | C4: =4 - (0.44 * SUMPRODUCT( ('Form responses'!B:B = $A4) * ((ISNUMBER(SEARCH("Flex Remedial", 'Form responses'!D:D))) + (ISNUMBER(SEARCH("Contract Errors", 'Form responses'!D:D))) + (ISNUMBER(SEARCH("Ofcom Knowledge", 'Form responses'!D:D))) + (ISNUMBER(SEARCH("FCA Knowledge", 'Form responses'!D:D))) + (ISNUMBER(SEARCH("FCA/OFCOM Complaint", 'Form responses'!D:D))) + (ISNUMBER(SEARCH("Flex Process", 'Form responses'!D:D))) + (ISNUMBER(SEARCH("Proofs", 'Form responses'!D:D))) )) ) -> 3.56 | D4: =4 - (0.44 * SUMPRODUCT( ('Form responses'!B:B = $A4) * ((ISNUMBER(SEARCH("Fire Book", 'Form responses'!E:E))) + (ISNUMBER(SEARCH("Fire Risk Assessments", 'Form responses'!E:E))) + (ISNUMBER(SEARCH("Cleanliness", 'Form responses'!E:E))) + (ISNUMBER(SEARCH("H&S board", 'Form responses'!E:E))) + (ISNUMBER(SEARCH("H&S Knowledge", 'Form responses'!E:E))) )) ) -> 3.12 | E4: =4 - (0.44 * SUMPRODUCT( ('Form responses'!B:B = $A4) * ((ISNUMBER(SEARCH("System Misuse", 'Form responses'!F:F))) + (ISNUMBER(SEARCH("Misconduct", 'Form responses'!F:F))) + (ISNUMBER(SEARCH("Checklist Failures", 'Form responses'!F:F))) + (ISNUMBER(SEARCH("Sign in/out", 'Form responses'!F:F))) + (ISNUMBER(SEARCH("Risk Escalations", 'Form responses'!F:F))) + (ISNUMBER(SEARCH("Reconciliation", 'Form responses'!F:F))) + (ISNUMBER(SEARCH("Website", 'Form responses'!F:F))) + (ISNUMBER(SEARCH("Banking", 'Form responses'!F:F))) + (ISNUMBER(SEARCH("Missed Declarations", 'Form responses'!F:F))) + (ISNUMBER(SEARCH("Missed Deadlines", 'Form responses'!F:F))) )) ) -> 2.24 | F4: =4 - (0.44 * SUMPRODUCT( ('Form responses'!B:B = $A4) * ((ISNUMBER(SEARCH("Store Late Opening", 'Form responses'!G:G))) + (ISNUMBER(SEARCH("Manager Lateness", 'Form responses'!G:G))) + (ISNUMBER(SEARCH("POS", 'Form responses'!G:G))) + (ISNUMBER(SEARCH("Store Standards", 'Form responses'!G:G))) + (ISNUMBER(SEARCH("Social Media", 'Form responses'!G:G))) + (ISNUMBER(SEARCH("Google Reviews", 'Form responses'!G:G))) + (ISNUMBER(SEARCH("Repairs/Returns", 'Form responses'!G:G))) + (ISNUMBER(SEARCH("Store Security", 'Form responses'!G:G))) + (ISNUMBER(SEARCH("Stock/Demos", 'Form responses'!G:G))) + (ISNUMBER(SEARCH("Bright HR", 'Form responses'!G:G))) )) ) -> 3.56 | G4: =4-COUNTIFS('Form responses'!B:B, A4, 'Form responses'!H:H, "Missed Deadline")*0.95 -> 3.05 | H4: =SUM(B4:G4)/6 -> 2.9616667
A5: Leeds: Crossgates | B5: =4 - (0.44 * SUMPRODUCT( ('Form responses'!B:B = $A5) * ((ISNUMBER(SEARCH("Customer Data", 'Form responses'!C:C))) + (ISNUMBER(SEARCH("Tablets Unattended", 'Form responses'!C:C))) + (ISNUMBER(SEARCH("Safe Unlocked", 'Form responses'!C:C))) + (ISNUMBER(SEARCH("Shredder Not in Use", 'Form responses'!C:C))) + (ISNUMBER(SEARCH("Accessing Customer's Account W/O Permissions", 'Form responses'!C:C))) + (ISNUMBER(SEARCH("Accessing F/F Accounts", 'Form responses'!C:C))) )) ) -> 4 | C5: =4 - (0.44 * SUMPRODUCT( ('Form responses'!B:B = $A5) * ((ISNUMBER(SEARCH("Flex Remedial", 'Form responses'!D:D))) + (ISNUMBER(SEARCH("Contract Errors", 'Form responses'!D:D))) + (ISNUMBER(SEARCH("Ofcom Knowledge", 'Form responses'!D:D))) + (ISNUMBER(SEARCH("FCA Knowledge", 'Form responses'!D:D))) + (ISNUMBER(SEARCH("FCA/OFCOM Complaint", 'Form responses'!D:D))) + (ISNUMBER(SEARCH("Flex Process", 'Form responses'!D:D))) + (ISNUMBER(SEARCH("Proofs", 'Form responses'!D:D))) )) ) -> 3.12 | D5: =4 - (0.44 * SUMPRODUCT( ('Form responses'!B:B = $A5) * ((ISNUMBER(SEARCH("Fire Book", 'Form responses'!E:E))) + (ISNUMBER(SEARCH("Fire Risk Assessments", 'Form responses'!E:E))) + (ISNUMBER(SEARCH("Cleanliness", 'Form responses'!E:E))) + (ISNUMBER(SEARCH("H&S board", 'Form responses'!E:E))) + (ISNUMBER(SEARCH("H&S Knowledge", 'Form responses'!E:E))) )) ) -> 4 | E5: =4 - (0.44 * SUMPRODUCT( ('Form responses'!B:B = $A5) * ((ISNUMBER(SEARCH("System Misuse", 'Form responses'!F:F))) + (ISNUMBER(SEARCH("Misconduct", 'Form responses'!F:F))) + (ISNUMBER(SEARCH("Checklist Failures", 'Form responses'!F:F))) + (ISNUMBER(SEARCH("Sign in/out", 'Form responses'!F:F))) + (ISNUMBER(SEARCH("Risk Escalations", 'Form responses'!F:F))) + (ISNUMBER(SEARCH("Reconciliation", 'Form responses'!F:F))) + (ISNUMBER(SEARCH("Website", 'Form responses'!F:F))) + (ISNUMBER(SEARCH("Banking", 'Form responses'!F:F))) + (ISNUMBER(SEARCH("Missed Declarations", 'Form responses'!F:F))) + (ISNUMBER(SEARCH("Missed Deadlines", 'Form responses'!F:F))) )) ) -> 2.68 | F5: =4 - (0.44 * SUMPRODUCT( ('Form responses'!B:B = $A5) * ((ISNUMBER(SEARCH("Store Late Opening", 'Form responses'!G:G))) + (ISNUMBER(SEARCH("Manager Lateness", 'Form responses'!G:G))) + (ISNUMBER(SEARCH("POS", 'Form responses'!G:G))) + (ISNUMBER(SEARCH("Store Standards", 'Form responses'!G:G))) + (ISNUMBER(SEARCH("Social Media", 'Form responses'!G:G))) + (ISNUMBER(SEARCH("Google Reviews", 'Form responses'!G:G))) + (ISNUMBER(SEARCH("Repairs/Returns", 'Form responses'!G:G))) + (ISNUMBER(SEARCH("Store Security", 'Form responses'!G:G))) + (ISNUMBER(SEARCH("Stock/Demos", 'Form responses'!G:G))) + (ISNUMBER(SEARCH("Bright HR", 'Form responses'!G:G))) )) ) -> 3.12 | G5: =4-COUNTIFS('Form responses'!B:B, A5, 'Form responses'!H:H, "Missed Deadline")*0.95 -> 4 | H5: =SUM(B5:G5)/6 -> 3.4866667
A6: Leeds: The Springs | B6: =4 - (0.44 * SUMPRODUCT( ('Form responses'!B:B = $A6) * ((ISNUMBER(SEARCH("Customer Data", 'Form responses'!C:C))) + (ISNUMBER(SEARCH("Tablets Unattended", 'Form responses'!C:C))) + (ISNUMBER(SEARCH("Safe Unlocked", 'Form responses'!C:C))) + (ISNUMBER(SEARCH("Shredder Not in Use", 'Form responses'!C:C))) + (ISNUMBER(SEARCH("Accessing Customer's Account W/O Permissions", 'Form responses'!C:C))) + (ISNUMBER(SEARCH("Accessing F/F Accounts", 'Form responses'!C:C))) )) ) -> 3.56 | C6: =4 - (0.44 * SUMPRODUCT( ('Form responses'!B:B = $A6) * ((ISNUMBER(SEARCH("Flex Remedial", 'Form responses'!D:D))) + (ISNUMBER(SEARCH("Contract Errors", 'Form responses'!D:D))) + (ISNUMBER(SEARCH("Ofcom Knowledge", 'Form responses'!D:D))) + (ISNUMBER(SEARCH("FCA Knowledge", 'Form responses'!D:D))) + (ISNUMBER(SEARCH("FCA/OFCOM Complaint", 'Form responses'!D:D))) + (ISNUMBER(SEARCH("Flex Process", 'Form responses'!D:D))) + (ISNUMBER(SEARCH("Proofs", 'Form responses'!D:D))) )) ) -> 4 | D6: =4 - (0.44 * SUMPRODUCT( ('Form responses'!B:B = $A6) * ((ISNUMBER(SEARCH("Fire Book", 'Form responses'!E:E))) + (ISNUMBER(SEARCH("Fire Risk Assessments", 'Form responses'!E:E))) + (ISNUMBER(SEARCH("Cleanliness", 'Form responses'!E:E))) + (ISNUMBER(SEARCH("H&S board", 'Form responses'!E:E))) + (ISNUMBER(SEARCH("H&S Knowledge", 'Form responses'!E:E))) )) ) -> 4 | E6: =4 - (0.44 * SUMPRODUCT( ('Form responses'!B:B = $A6) * ((ISNUMBER(SEARCH("System Misuse", 'Form responses'!F:F))) + (ISNUMBER(SEARCH("Misconduct", 'Form responses'!F:F))) + (ISNUMBER(SEARCH("Checklist Failures", 'Form responses'!F:F))) + (ISNUMBER(SEARCH("Sign in/out", 'Form responses'!F:F))) + (ISNUMBER(SEARCH("Risk Escalations", 'Form responses'!F:F))) + (ISNUMBER(SEARCH("Reconciliation", 'Form responses'!F:F))) + (ISNUMBER(SEARCH("Website", 'Form responses'!F:F))) + (ISNUMBER(SEARCH("Banking", 'Form responses'!F:F))) + (ISNUMBER(SEARCH("Missed Declarations", 'Form responses'!F:F))) + (ISNUMBER(SEARCH("Missed Deadlines", 'Form responses'!F:F))) )) ) -> 3.12 | F6: =4 - (0.44 * SUMPRODUCT( ('Form responses'!B:B = $A6) * ((ISNUMBER(SEARCH("Store Late Opening", 'Form responses'!G:G))) + (ISNUMBER(SEARCH("Manager Lateness", 'Form responses'!G:G))) + (ISNUMBER(SEARCH("POS", 'Form responses'!G:G))) + (ISNUMBER(SEARCH("Store Standards", 'Form responses'!G:G))) + (ISNUMBER(SEARCH("Social Media", 'Form responses'!G:G))) + (ISNUMBER(SEARCH("Google Reviews", 'Form responses'!G:G))) + (ISNUMBER(SEARCH("Repairs/Returns", 'Form responses'!G:G))) + (ISNUMBER(SEARCH("Store Security", 'Form responses'!G:G))) + (ISNUMBER(SEARCH("Stock/Demos", 'Form responses'!G:G))) + (ISNUMBER(SEARCH("Bright HR", 'Form responses'!G:G))) )) ) -> 4 | G6: =4-COUNTIFS('Form responses'!B:B, A6, 'Form responses'!H:H, "Missed Deadline")*0.95 -> 4 | H6: =SUM(B6:G6)/6 -> 3.78
A7: Pontefract | B7: =4 - (0.44 * SUMPRODUCT( ('Form responses'!B:B = $A7) * ((ISNUMBER(SEARCH("Customer Data", 'Form responses'!C:C))) + (ISNUMBER(SEARCH("Tablets Unattended", 'Form responses'!C:C))) + (ISNUMBER(SEARCH("Safe Unlocked", 'Form responses'!C:C))) + (ISNUMBER(SEARCH("Shredder Not in Use", 'Form responses'!C:C))) + (ISNUMBER(SEARCH("Accessing Customer's Account W/O Permissions", 'Form responses'!C:C))) + (ISNUMBER(SEARCH("Accessing F/F Accounts", 'Form responses'!C:C))) )) ) -> 2.68 | C7: =4 - (0.44 * SUMPRODUCT( ('Form responses'!B:B = $A7) * ((ISNUMBER(SEARCH("Flex Remedial", 'Form responses'!D:D))) + (ISNUMBER(SEARCH("Contract Errors", 'Form responses'!D:D))) + (ISNUMBER(SEARCH("Ofcom Knowledge", 'Form responses'!D:D))) + (ISNUMBER(SEARCH("FCA Knowledge", 'Form responses'!D:D))) + (ISNUMBER(SEARCH("FCA/OFCOM Complaint", 'Form responses'!D:D))) + (ISNUMBER(SEARCH("Flex Process", 'Form responses'!D:D))) + (ISNUMBER(SEARCH("Proofs", 'Form responses'!D:D))) )) ) -> 2.68 | D7: =4 - (0.44 * SUMPRODUCT( ('Form responses'!B:B = $A7) * ((ISNUMBER(SEARCH("Fire Book", 'Form responses'!E:E))) + (ISNUMBER(SEARCH("Fire Risk Assessments", 'Form responses'!E:E))) + (ISNUMBER(SEARCH("Cleanliness", 'Form responses'!E:E))) + (ISNUMBER(SEARCH("H&S board", 'Form responses'!E:E))) + (ISNUMBER(SEARCH("H&S Knowledge", 'Form responses'!E:E))) )) ) -> 4 | E7: =4 - (0.44 * SUMPRODUCT( ('Form responses'!B:B = $A7) * ((ISNUMBER(SEARCH("System Misuse", 'Form responses'!F:F))) + (ISNUMBER(SEARCH("Misconduct", 'Form responses'!F:F))) + (ISNUMBER(SEARCH("Checklist Failures", 'Form responses'!F:F))) + (ISNUMBER(SEARCH("Sign in/out", 'Form responses'!F:F))) + (ISNUMBER(SEARCH("Risk Escalations", 'Form responses'!F:F))) + (ISNUMBER(SEARCH("Reconciliation", 'Form responses'!F:F))) + (ISNUMBER(SEARCH("Website", 'Form responses'!F:F))) + (ISNUMBER(SEARCH("Banking", 'Form responses'!F:F))) + (ISNUMBER(SEARCH("Missed Declarations", 'Form responses'!F:F))) + (ISNUMBER(SEARCH("Missed Deadlines", 'Form responses'!F:F))) )) ) -> 1.8 | F7: =4 - (0.44 * SUMPRODUCT( ('Form responses'!B:B = $A7) * ((ISNUMBER(SEARCH("Store Late Opening", 'Form responses'!G:G))) + (ISNUMBER(SEARCH("Manager Lateness", 'Form responses'!G:G))) + (ISNUMBER(SEARCH("POS", 'Form responses'!G:G))) + (ISNUMBER(SEARCH("Store Standards", 'Form responses'!G:G))) + (ISNUMBER(SEARCH("Social Media", 'Form responses'!G:G))) + (ISNUMBER(SEARCH("Google Reviews", 'Form responses'!G:G))) + (ISNUMBER(SEARCH("Repairs/Returns", 'Form responses'!G:G))) + (ISNUMBER(SEARCH("Store Security", 'Form responses'!G:G))) + (ISNUMBER(SEARCH("Stock/Demos", 'Form responses'!G:G))) + (ISNUMBER(SEARCH("Bright HR", 'Form responses'!G:G))) )) ) -> 1.8 | G7: =4-COUNTIFS('Form responses'!B:B, A7, 'Form responses'!H:H, "Missed Deadline")*0.95 -> 4 | H7: =SUM(B7:G7)/6 -> 2.8266667
A8: Scunthorpe | B8: =4 - (0.44 * SUMPRODUCT( ('Form responses'!B:B = $A8) * ((ISNUMBER(SEARCH("Customer Data", 'Form responses'!C:C))) + (ISNUMBER(SEARCH("Tablets Unattended", 'Form responses'!C:C))) + (ISNUMBER(SEARCH("Safe Unlocked", 'Form responses'!C:C))) + (ISNUMBER(SEARCH("Shredder Not in Use", 'Form responses'!C:C))) + (ISNUMBER(SEARCH("Accessing Customer's Account W/O Permissions", 'Form responses'!C:C))) + (ISNUMBER(SEARCH("Accessing F/F Accounts", 'Form responses'!C:C))) )) ) -> 3.56 | C8: =4 - (0.44 * SUMPRODUCT( ('Form responses'!B:B = $A8) * ((ISNUMBER(SEARCH("Flex Remedial", 'Form responses'!D:D))) + (ISNUMBER(SEARCH("Contract Errors", 'Form responses'!D:D))) + (ISNUMBER(SEARCH("Ofcom Knowledge", 'Form responses'!D:D))) + (ISNUMBER(SEARCH("FCA Knowledge", 'Form responses'!D:D))) + (ISNUMBER(SEARCH("FCA/OFCOM Complaint", 'Form responses'!D:D))) + (ISNUMBER(SEARCH("Flex Process", 'Form responses'!D:D))) + (ISNUMBER(SEARCH("Proofs", 'Form responses'!D:D))) )) ) -> 3.56 | D8: =4 - (0.44 * SUMPRODUCT( ('Form responses'!B:B = $A8) * ((ISNUMBER(SEARCH("Fire Book", 'Form responses'!E:E))) + (ISNUMBER(SEARCH("Fire Risk Assessments", 'Form responses'!E:E))) + (ISNUMBER(SEARCH("Cleanliness", 'Form responses'!E:E))) + (ISNUMBER(SEARCH("H&S board", 'Form responses'!E:E))) + (ISNUMBER(SEARCH("H&S Knowledge", 'Form responses'!E:E))) )) ) -> 4 | E8: =4 - (0.44 * SUMPRODUCT( ('Form responses'!B:B = $A8) * ((ISNUMBER(SEARCH("System Misuse", 'Form responses'!F:F))) + (ISNUMBER(SEARCH("Misconduct", 'Form responses'!F:F))) + (ISNUMBER(SEARCH("Checklist Failures", 'Form responses'!F:F))) + (ISNUMBER(SEARCH("Sign in/out", 'Form responses'!F:F))) + (ISNUMBER(SEARCH("Risk Escalations", 'Form responses'!F:F))) + (ISNUMBER(SEARCH("Reconciliation", 'Form responses'!F:F))) + (ISNUMBER(SEARCH("Website", 'Form responses'!F:F))) + (ISNUMBER(SEARCH("Banking", 'Form responses'!F:F))) + (ISNUMBER(SEARCH("Missed Declarations", 'Form responses'!F:F))) + (ISNUMBER(SEARCH("Missed Deadlines", 'Form responses'!F:F))) )) ) -> 3.12 | F8: =4 - (0.44 * SUMPRODUCT( ('Form responses'!B:B = $A8) * ((ISNUMBER(SEARCH("Store Late Opening", 'Form responses'!G:G))) + (ISNUMBER(SEARCH("Manager Lateness", 'Form responses'!G:G))) + (ISNUMBER(SEARCH("POS", 'Form responses'!G:G))) + (ISNUMBER(SEARCH("Store Standards", 'Form responses'!G:G))) + (ISNUMBER(SEARCH("Social Media", 'Form responses'!G:G))) + (ISNUMBER(SEARCH("Google Reviews", 'Form responses'!G:G))) + (ISNUMBER(SEARCH("Repairs/Returns", 'Form responses'!G:G))) + (ISNUMBER(SEARCH("Store Security", 'Form responses'!G:G))) + (ISNUMBER(SEARCH("Stock/Demos", 'Form responses'!G:G))) + (ISNUMBER(SEARCH("Bright HR", 'Form responses'!G:G))) )) ) -> 3.12 | G8: =4-COUNTIFS('Form responses'!B:B, A8, 'Form responses'!H:H, "Missed Deadline")*0.95 -> 4 | H8: =SUM(B8:G8)/6 -> 3.56
A9: Selby | B9: =4 - (0.44 * SUMPRODUCT( ('Form responses'!B:B = $A9) * ((ISNUMBER(SEARCH("Customer Data", 'Form responses'!C:C))) + (ISNUMBER(SEARCH("Tablets Unattended", 'Form responses'!C:C))) + (ISNUMBER(SEARCH("Safe Unlocked", 'Form responses'!C:C))) + (ISNUMBER(SEARCH("Shredder Not in Use", 'Form responses'!C:C))) + (ISNUMBER(SEARCH("Accessing Customer's Account W/O Permissions", 'Form responses'!C:C))) + (ISNUMBER(SEARCH("Accessing F/F Accounts", 'Form responses'!C:C))) )) ) -> 2.68 | C9: =4 - (0.44 * SUMPRODUCT( ('Form responses'!B:B = $A9) * ((ISNUMBER(SEARCH("Flex Remedial", 'Form responses'!D:D))) + (ISNUMBER(SEARCH("Contract Errors", 'Form responses'!D:D))) + (ISNUMBER(SEARCH("Ofcom Knowledge", 'Form responses'!D:D))) + (ISNUMBER(SEARCH("FCA Knowledge", 'Form responses'!D:D))) + (ISNUMBER(SEARCH("FCA/OFCOM Complaint", 'Form responses'!D:D))) + (ISNUMBER(SEARCH("Flex Process", 'Form responses'!D:D))) + (ISNUMBER(SEARCH("Proofs", 'Form responses'!D:D))) )) ) -> 3.56 | D9: =4 - (0.44 * SUMPRODUCT( ('Form responses'!B:B = $A9) * ((ISNUMBER(SEARCH("Fire Book", 'Form responses'!E:E))) + (ISNUMBER(SEARCH("Fire Risk Assessments", 'Form responses'!E:E))) + (ISNUMBER(SEARCH("Cleanliness", 'Form responses'!E:E))) + (ISNUMBER(SEARCH("H&S board", 'Form responses'!E:E))) + (ISNUMBER(SEARCH("H&S Knowledge", 'Form responses'!E:E))) )) ) -> 4 | E9: =4 - (0.44 * SUMPRODUCT( ('Form responses'!B:B = $A9) * ((ISNUMBER(SEARCH("System Misuse", 'Form responses'!F:F))) + (ISNUMBER(SEARCH("Misconduct", 'Form responses'!F:F))) + (ISNUMBER(SEARCH("Checklist Failures", 'Form responses'!F:F))) + (ISNUMBER(SEARCH("Sign in/out", 'Form responses'!F:F))) + (ISNUMBER(SEARCH("Risk Escalations", 'Form responses'!F:F))) + (ISNUMBER(SEARCH("Reconciliation", 'Form responses'!F:F))) + (ISNUMBER(SEARCH("Website", 'Form responses'!F:F))) + (ISNUMBER(SEARCH("Banking", 'Form responses'!F:F))) + (ISNUMBER(SEARCH("Missed Declarations", 'Form responses'!F:F))) + (ISNUMBER(SEARCH("Missed Deadlines", 'Form responses'!F:F))) )) ) -> 2.68 | F9: =4 - (0.44 * SUMPRODUCT( ('Form responses'!B:B = $A9) * ((ISNUMBER(SEARCH("Store Late Opening", 'Form responses'!G:G))) + (ISNUMBER(SEARCH("Manager Lateness", 'Form responses'!G:G))) + (ISNUMBER(SEARCH("POS", 'Form responses'!G:G))) + (ISNUMBER(SEARCH("Store Standards", 'Form responses'!G:G))) + (ISNUMBER(SEARCH("Social Media", 'Form responses'!G:G))) + (ISNUMBER(SEARCH("Google Reviews", 'Form responses'!G:G))) + (ISNUMBER(SEARCH("Repairs/Returns", 'Form responses'!G:G))) + (ISNUMBER(SEARCH("Store Security", 'Form responses'!G:G))) + (ISNUMBER(SEARCH("Stock/Demos", 'Form responses'!G:G))) + (ISNUMBER(SEARCH("Bright HR", 'Form responses'!G:G))) )) ) -> 3.12 | G9: =4-COUNTIFS('Form responses'!B:B, A9, 'Form responses'!H:H, "Missed Deadline")*0.95 -> 4 | H9: =SUM(B9:G9)/6 -> 3.34
A10: Shipley | B10: =4 - (0.44 * SUMPRODUCT( ('Form responses'!B:B = $A10) * ((ISNUMBER(SEARCH("Customer Data", 'Form responses'!C:C))) + (ISNUMBER(SEARCH("Tablets Unattended", 'Form responses'!C:C))) + (ISNUMBER(SEARCH("Safe Unlocked", 'Form responses'!C:C))) + (ISNUMBER(SEARCH("Shredder Not in Use", 'Form responses'!C:C))) + (ISNUMBER(SEARCH("Accessing Customer's Account W/O Permissions", 'Form responses'!C:C))) + (ISNUMBER(SEARCH("Accessing F/F Accounts", 'Form responses'!C:C))) )) ) -> 2.68 | C10: =4 - (0.44 * SUMPRODUCT( ('Form responses'!B:B = $A10) * ((ISNUMBER(SEARCH("Flex Remedial", 'Form responses'!D:D))) + (ISNUMBER(SEARCH("Contract Errors", 'Form responses'!D:D))) + (ISNUMBER(SEARCH("Ofcom Knowledge", 'Form responses'!D:D))) + (ISNUMBER(SEARCH("FCA Knowledge", 'Form responses'!D:D))) + (ISNUMBER(SEARCH("FCA/OFCOM Complaint", 'Form responses'!D:D))) + (ISNUMBER(SEARCH("Flex Process", 'Form responses'!D:D))) + (ISNUMBER(SEARCH("Proofs", 'Form responses'!D:D))) )) ) -> 3.56 | D10: =4 - (0.44 * SUMPRODUCT( ('Form responses'!B:B = $A10) * ((ISNUMBER(SEARCH("Fire Book", 'Form responses'!E:E))) + (ISNUMBER(SEARCH("Fire Risk Assessments", 'Form responses'!E:E))) + (ISNUMBER(SEARCH("Cleanliness", 'Form responses'!E:E))) + (ISNUMBER(SEARCH("H&S board", 'Form responses'!E:E))) + (ISNUMBER(SEARCH("H&S Knowledge", 'Form responses'!E:E))) )) ) -> 3.56 | E10: =4 - (0.44 * SUMPRODUCT( ('Form responses'!B:B = $A10) * ((ISNUMBER(SEARCH("System Misuse", 'Form responses'!F:F))) + (ISNUMBER(SEARCH("Misconduct", 'Form responses'!F:F))) + (ISNUMBER(SEARCH("Checklist Failures", 'Form responses'!F:F))) + (ISNUMBER(SEARCH("Sign in/out", 'Form responses'!F:F))) + (ISNUMBER(SEARCH("Risk Escalations", 'Form responses'!F:F))) + (ISNUMBER(SEARCH("Reconciliation", 'Form responses'!F:F))) + (ISNUMBER(SEARCH("Website", 'Form responses'!F:F))) + (ISNUMBER(SEARCH("Banking", 'Form responses'!F:F))) + (ISNUMBER(SEARCH("Missed Declarations", 'Form responses'!F:F))) + (ISNUMBER(SEARCH("Missed Deadlines", 'Form responses'!F:F))) )) ) -> 1.8 | F10: =4 - (0.44 * SUMPRODUCT( ('Form responses'!B:B = $A10) * ((ISNUMBER(SEARCH("Store Late Opening", 'Form responses'!G:G))) + (ISNUMBER(SEARCH("Manager Lateness", 'Form responses'!G:G))) + (ISNUMBER(SEARCH("POS", 'Form responses'!G:G))) + (ISNUMBER(SEARCH("Store Standards", 'Form responses'!G:G))) + (ISNUMBER(SEARCH("Social Media", 'Form responses'!G:G))) + (ISNUMBER(SEARCH("Google Reviews", 'Form responses'!G:G))) + (ISNUMBER(SEARCH("Repairs/Returns", 'Form responses'!G:G))) + (ISNUMBER(SEARCH("Store Security", 'Form responses'!G:G))) + (ISNUMBER(SEARCH("Stock/Demos", 'Form responses'!G:G))) + (ISNUMBER(SEARCH("Bright HR", 'Form responses'!G:G))) )) ) -> 2.24 | G10: =4-COUNTIFS('Form responses'!B:B, A10, 'Form responses'!H:H, "Missed Deadline")*0.95 -> 3.05 | H10: =SUM(B10:G10)/6 -> 2.815
A11: Skipton | B11: =4 - (0.44 * SUMPRODUCT( ('Form responses'!B:B = $A11) * ((ISNUMBER(SEARCH("Customer Data", 'Form responses'!C:C))) + (ISNUMBER(SEARCH("Tablets Unattended", 'Form responses'!C:C))) + (ISNUMBER(SEARCH("Safe Unlocked", 'Form responses'!C:C))) + (ISNUMBER(SEARCH("Shredder Not in Use", 'Form responses'!C:C))) + (ISNUMBER(SEARCH("Accessing Customer's Account W/O Permissions", 'Form responses'!C:C))) + (ISNUMBER(SEARCH("Accessing F/F Accounts", 'Form responses'!C:C))) )) ) -> 4 | C11: =4 - (0.44 * SUMPRODUCT( ('Form responses'!B:B = $A11) * ((ISNUMBER(SEARCH("Flex Remedial", 'Form responses'!D:D))) + (ISNUMBER(SEARCH("Contract Errors", 'Form responses'!D:D))) + (ISNUMBER(SEARCH("Ofcom Knowledge", 'Form responses'!D:D))) + (ISNUMBER(SEARCH("FCA Knowledge", 'Form responses'!D:D))) + (ISNUMBER(SEARCH("FCA/OFCOM Complaint", 'Form responses'!D:D))) + (ISNUMBER(SEARCH("Flex Process", 'Form responses'!D:D))) + (ISNUMBER(SEARCH("Proofs", 'Form responses'!D:D))) )) ) -> 4 | D11: =4 - (0.44 * SUMPRODUCT( ('Form responses'!B:B = $A11) * ((ISNUMBER(SEARCH("Fire Book", 'Form responses'!E:E))) + (ISNUMBER(SEARCH("Fire Risk Assessments", 'Form responses'!E:E))) + (ISNUMBER(SEARCH("Cleanliness", 'Form responses'!E:E))) + (ISNUMBER(SEARCH("H&S board", 'Form responses'!E:E))) + (ISNUMBER(SEARCH("H&S Knowledge", 'Form responses'!E:E))) )) ) -> 4 | E11: =4 - (0.44 * SUMPRODUCT( ('Form responses'!B:B = $A11) * ((ISNUMBER(SEARCH("System Misuse", 'Form responses'!F:F))) + (ISNUMBER(SEARCH("Misconduct", 'Form responses'!F:F))) + (ISNUMBER(SEARCH("Checklist Failures", 'Form responses'!F:F))) + (ISNUMBER(SEARCH("Sign in/out", 'Form responses'!F:F))) + (ISNUMBER(SEARCH("Risk Escalations", 'Form responses'!F:F))) + (ISNUMBER(SEARCH("Reconciliation", 'Form responses'!F:F))) + (ISNUMBER(SEARCH("Website", 'Form responses'!F:F))) + (ISNUMBER(SEARCH("Banking", 'Form responses'!F:F))) + (ISNUMBER(SEARCH("Missed Declarations", 'Form responses'!F:F))) + (ISNUMBER(SEARCH("Missed Deadlines", 'Form responses'!F:F))) )) ) -> 3.56 | F11: =4 - (0.44 * SUMPRODUCT( ('Form responses'!B:B = $A11) * ((ISNUMBER(SEARCH("Store Late Opening", 'Form responses'!G:G))) + (ISNUMBER(SEARCH("Manager Lateness", 'Form responses'!G:G))) + (ISNUMBER(SEARCH("POS", 'Form responses'!G:G))) + (ISNUMBER(SEARCH("Store Standards", 'Form responses'!G:G))) + (ISNUMBER(SEARCH("Social Media", 'Form responses'!G:G))) + (ISNUMBER(SEARCH("Google Reviews", 'Form responses'!G:G))) + (ISNUMBER(SEARCH("Repairs/Returns", 'Form responses'!G:G))) + (ISNUMBER(SEARCH("Store Security", 'Form responses'!G:G))) + (ISNUMBER(SEARCH("Stock/Demos", 'Form responses'!G:G))) + (ISNUMBER(SEARCH("Bright HR", 'Form responses'!G:G))) )) ) -> 3.56 | G11: =4-COUNTIFS('Form responses'!B:B, A11, 'Form responses'!H:H, "Missed Deadline")*0.95 -> 4 | H11: =SUM(B11:G11)/6 -> 3.8533333
